Workbook

Sheet TIPOVAČKA
E1: 1z | F1: 2z | G1: 3z | H1: 4z | I1: 5z | J1: 6z | K1: 7z | L1: 8z | M1: 9z | N1: 10z | O1: 11z | P1: 12z | Q1: 13z | R1: 14z | S1: 15z | T1: 16z | U1: 17z | V1: 18z | W1: 19z | X1: 20z
A2: 1. | E2: SVR-NES | F2: KLO-OŠČ | G2: VAD-LOD | H2: OLE-HOR | I2: POV-RUD | J2: OCH-RDL | K2: RAK-SNE | L2: POD-ŠTI | M2: ĎUR-ST.B | N2: SKA-GBE | O2: ZBO-H.H | P2: KOR-VYS | Q2: TUR-L.Š | R2: ČAD-ZUB | S2: KNM-B.B | T2: VAD-LOD | U2: OCH-RDL | V2: POD-ŠTI | W2: KOR-VYS | X2: KNM-B.B
E3: 3:2 | F3: 3:2 | G3: 1:2 | H3: 4:2 | I3: 3:1 | J3: 1:0 | K3: 6:3 | L3: 8:0 | M3: 0:1 | N3: 3:0 | O3: 1:4 | P3: 1:2 | Q3: nehrali | R3: 3:2 | S3: 1:1 | T3: 1:2 | U3: 1:0 | V3: 8:0 | W3: 1:2 | X3: 1:1
B4: Dušan | C4: 10 | E4: 2 | F4: 2 | G4: 2 | H4: 1 | I4: 1 | J4: 2 | K4: 1 | L4: 1 | M4: 1 | N4: 1 | O4: 1 | P4: x | Q4: 1 | R4: 1 | S4: 1 | T4: 1 2 | U4: 0 2 | V4: 4 1 | W4: 2 2 | X4: 1 0
B5: Lorak | C5: 6 | E5: 2 | F5: 1 | G5: x | H5: 1 | I5: 1 | J5: 2 | K5: 1 | L5: 1 | M5: 1 | N5: 1 | O5: 1 | P5: 1 | Q5: 2 | R5: x | S5: 1 | T5: 2 3 | U5: 1 2 | V5: 2 0 | W5: 1 0 | X5: 2 1
B6: Kladivo | C6: 10 | E6: 2 | F6: 2 | G6: 1 | H6: 1 | I6: 1 | J6: 2 | K6: 1 | L6: 1 | M6: 1 | N6: 1 | O6: 1 | P6: 2 | Q6: 1 | R6: 1 | S6: 1 | T6: 2 1 | U6: 1 2 | V6: 4 1 | W6: 1 2 | X6: 2 1
B7: Zjavka777 | C7: 11 | E7: 2 | F7: 2 | G7: 2 | H7: 1 | I7: x | J7: 1 | K7: 1 | L7: 1 | M7: 2 | N7: 1 | O7: 1 | P7: 1 | Q7: 1 | R7: 1 | S7: 1 | T7: 1 2 | U7: 2 1 | V7: 3 1 | W7: 2 1 | X7: 3 2
B8: Mino | C8: 9 | E8: 1 | F8: 1 | G8: 1 | H8: 1 | I8: 1 | J8: 1 | K8: 1 | L8: 1 | M8: 1 | N8: 1 | O8: 1 | P8: 1 | Q8: 1 | R8: 1 | S8: 1 | T8: 2 1 | U8: 2 1 | V8: 2 1 | W8: 2 1 | X8: 2 1
B9: Peto91 | C9: 9 | E9: 2 | F9: 2 | G9: 1 | H9: 1 | I9: 2 | J9: 2 | K9: 1 | L9: 1 | M9: 2 | N9: 1 | O9: 1 | P9: 2 | Q9: 1 | R9: 2 | S9: 2 | T9: 2 1 | U9: 1 2 | V9: 3 1 | W9: 1 2 | X9: 0 2
B10: Bekino | C10: 6 | E10: 1 | F10: 1 | G10: 1 | H10: 1 | I10: x | J10: 2 | K10: 1 | L10: 2 | M10: 1 | N10: 1 | O10: 1 | P10: x | Q10: 1 | R10: 1 | S10: 1 | T10: 3 0 | U10: 4 2 | V10: 1 2 | W10: 2 2 | X10: 2 0
B11: Tobikoo | C11: 10 | E11: 1 | F11: 2 | G11: 2 | H11: 1 | I11: 2 | J11: 1 | K11: 2 | L11: 1 | M11: 2 | N11: 1 | O11: 2 | P11: 2 | Q11: 2 | R11: 1 | S11: 2 | T11: 1 3 | U11: 4 2 | V11: 1 2 | W11: 0 2 | X11: 3 5
B12: Ylia | C12: 10 | E12: 1 | F12: 2 | G12: 2 | H12: 1 | I12: 1 | J12: x | K12: 1 | L12: x | M12: 2 | N12: 2 | O12: 1 | P12: 2 | Q12: 2 | R12: x | S12: 1 | T12: 1 2 | U12: 1 1 | V12: 3 1 | W12: 1 3 | X12: 2 0
B13: Brandis | C13: 10 | E13: 1 | F13: 2 | G13: x | H13: 1 | I13: 1 | J13: 2 | K13: 1 | L13: 1 | M13: x | N13: 1 | O13: x | P13: 1 | Q13: 1 | R13: 1 | S13: 2 | T13: 2 2 | U13: 1 2 | V13: 2 1 | W13: 1 2 | X13: 1 2
B14: Duško | C14: 13 | E14: 1 | F14: 2 | G14: 2 | H14: 1 | I14: 1 | J14: 1 | K14: 1 | L14: 1 | M14: 1 | N14: 1 | O14: 1 | P14: 2 | Q14: 1 | R14: 1 | S14: 1 | T14: 1 2 | U14: 0 3 | V14: 5 0 | W14: 1 4 | X14: 2 1
B15: Trubka | C15: 14 | E15: 2 | F15: 2 | G15: 2 | H15: 1 | I15: 1 | J15: 2 | K15: 1 | L15: 1 | M15: 1 | N15: 1 | O15: 1 | P15: 2 | Q15: 1 | R15: 1 | S15: 1 | T15: 1 2 | U15: 1 3 | V15: 4 0 | W15: 1 2 | X15: 1 0
B16: Jarko77 | C16: 5 | E16: 2 | F16: 2 | G16: 1 | H16: 1 | I16: 1 | J16: 1 | K16: 1 | L16: 2 | M16: 1 | N16: 1 | O16: 1 | P16: 1 | Q16: 1 | R16: 2 | S16: 2 | T16: 2 1 | U16: 2 1 | V16: 1 3 | W16: 1 0 | X16: 1 3
B17: HolaHou | C17: 9 | E17: 1 | F17: 2 | G17: x | H17: 1 | I17: 1 | J17: 1 | K17: 1 | L17: 1 | M17: 1 | N17: 1 | O17: x | P17: 2 | Q17: 2 | R17: 1 | S17: 2 | T17: 2 2 | U17: 2 1 | V17: 5 1 | W17: 1 4 | X17: 0 2
B18: Johny2001 | C18: 7 | E18: 2 | F18: 2 | G18: 2 | H18: 1 | I18: 1 | J18: x | K18: 1 | L18: 1 | M18: 2 | N18: x | O18: 1 | P18: 2 | Q18: 1 | R18: x | S18: 1 | T18: 1 3 | U18: 1 1 | V18: 3 0 | W18: 1 3 | X18: 2 1
B19: Legionar1987 | C19: 7 | F19: 2 | G19: 1 | H19: 1 | I19: 2 | J19: 2 | K19: 1 | L19: 1 | M19: 2 | N19: 1 | O19: 2 | P19: 2 | Q19: 1 | T19: 2 1 | U19: 1 2 | V19: 3 1 | W19: 0 2
B20: Pavol | C20: 7 | F20: 2 | G20: 1 | H20: 1 | I20: 1 | J20: 1 | K20: 1 | L20: 1 | M20: x | N20: 1 | O20: 1 | P20: 2 | Q20: 1 | T20: 3 1 | U20: 2 1 | V20: 4 1 | W20: 1 3
A22: 2. | E22: RDL-KLO | F22: SVR-OCH | G22: LOD-SNE | H22: HOR-NES | I22: RUD-OLE | J22: VAD-POV | K22: OŠČ-RAK | L22: KOR-POD | M22: NED-SKA | N22: GBE-ZBO | O22: VYS-ST.B | P22: ČIE-TUR | Q22: KRA-BAD | R22: R.S-KNM | S22: HOR-NES | T22: RUD-OLE | U22: OŠČ-RAK | V22: KOR-POD | W22: ČIE-TUR | X22: R.S-KNM
E23: 5:0 | F23: 0:3 | G23: 4:0 | H23: 0:8 | I23: 2:2 | J23: 3:1 | K23: 0:1 | L23: 3:4 | M23: 0:2 | N23: 0:0 | O23: 3:0 | P23: 1:0 | Q23: 1:1 | R23: 3:1 | S23: 0:8 | T23: 2:2 | U23: 0:1 | V23: 3:4 | W23: 1:0 | X23: 3:1
B24: Zjavka777 | C24: 7 | E24: 1 | F24: 2 | G24: 1 | H24: 2 | I24: 2 | J24: 2 | K24: 2 | L24: 2 | M24: x | N24: 2 | O24: 1 | P24: 2 | Q24: 1 | R24: 2 | S24: 1 4 | T24: 1 3 | U24: 1 2 | V24: 2 3 | W24: 1 2 | X24: 1 1
B25: Pavol | C25: 11 | E25: 1 | F25: 2 | G25: 1 | H25: 2 | I25: 1 | J25: 2 | K25: x | L25: 2 | M25: 2 | N25: 1 | O25: 1 | P25: 2 | Q25: 1 | R25: 1 | S25: 1 3 | T25: 4 2 | U25: 2 2 | V25: 1 4 | W25: 1 3 | X25: 3 1
B26: Lorak | C26: 4 | E26: 1 | F26: 2 | G26: 1 | H26: x | I26: 1 | J26: x | K26: x | L26: x | M26: 1 | N26: 1 | O26: 1 | P26: x | Q26: 2 | R26: x | S26: 0 0 | T26: 1 0 | U26: 1 1 | V26: 1 1 | W26: 0 0 | X26: 0 0
B27: Trubka | C27: 9 | E27: 1 | F27: 2 | G27: 1 | H27: 2 | I27: 1 | J27: 1 | K27: 1 | L27: 2 | M27: 2 | N27: 1 | O27: 1 | P27: 1 | Q27: 1 | R27: 2 | S27: 1 3 | T27: 2 0 | U27: 2 1 | V27: 1 4 | W27: 2 0 | X27: 0 1
B28: Johny2001 | C28: 9 | E28: 1 | F28: 2 | G28: 1 | H28: 2 | I28: 2 | J28: 2 | K28: 2 | L28: 2 | M28: 1 | N28: 1 | O28: 1 | P28: 1 | Q28: 1 | R28: 1 | S28: 1 3 | T28: 1 2 | U28: 1 2 | V28: 1 3 | W28: 2 1 | X28: 2 0
B29: Legionar1987 | C29: 8 | E29: 1 | F29: 2 | G29: 1 | H29: 2 | I29: 1 | J29: 1 | K29: 1 | L29: 2 | M29: 2 | N29: 2 | O29: 1 | P29: 2 | Q29: 1 | R29: 2 | S29: 1 3 | T29: 2 1 | U29: 1 0 | V29: 1 2 | W29: 1 3 | X29: 1 3
B30: Mino | C30: 6 | E30: 1 | F30: 1 | G30: 1 | H30: 1 | I30: 1 | J30: 1 | K30: 1 | L30: 1 | M30: 1 | N30: 1 | O30: 1 | P30: 1 | Q30: 1 | R30: 1 | S30: 2 1 | T30: 2 1 | U30: 2 1 | V30: 2 1 | W30: 2 1 | X30: 2 1
B31: Brandis | C31: 6 | E31: 1 | F31: x | G31: 1 | H31: 1 | I31: 1 | J31: 1 | K31: 1 | L31: 2 | M31: 1 | N31: 1 | O31: 1 | P31: x | Q31: 1 | R31: 1 | S31: 2 1 | T31: 3 1 | U31: 2 1 | V31: 1 3 | W31: 2 2 | X31: 2 0
B32: Dušan | C32: 7 | E32: 1 | F32: 1 | G32: 1 | H32: 1 | I32: 2 | J32: x | K32: 2 | L32: 2 | M32: 2 | N32: 1 | O32: 1 | P32: x | Q32: 1 | R32: 1 | S32: 2 1 | T32: 1 4 | U32: 1 3 | V32: 0 4 | W32: 2 2 | X32: 2 0
B33: Jarko77 | C33: 6 | E33: 1 | F33: 1 | G33: 1 | H33: 2 | I33: 1 | J33: 2 | K33: 1 | L33: 1 | M33: 1 | N33: 1 | O33: 1 | P33: 1 | Q33: 1 | R33: 1 | S33: 1 3 | T33: 3 0 | U33: 2 0 | V33: 1 0 | W33: 2 1 | X33: 2 1
B34: Kladivo | C34: 6 | F34: 2 | G34: 1 | H34: 2 | I34: 2 | J34: 2 | K34: 1 | L34: 2 | M34: 1 | N34: 1 | O34: 1 | P34: 1 | Q34: 1 | R34: x | S34: 1 3 | T34: 1 2 | U34: 2 1 | V34: 1 5 | W34: 2 1 | X34: 1 1
A36: 3. | E36: KLO-SVR | F36: POV-LOD | G36: RUD-NES | H36: OCH-HOR | I36: RAK-RDL | J36: SNE-OŠČ | K36: OLE-VAD | L36: ST.B-H.H | M36: SKA-K.P | N36: VAR-KOR | O36: ZBO-NED | P36: POD-VYS | Q36: RDS-STR | R36: KNM-LUČ | S36: SNE-OŠČ | T36: POV-LOD | U36: POD-VYS | V36: SKA-K.P | W36: RDS-STR | X36: KNM-LUČ
E37: 0:4 | F37: 3:1 | G37: 0:2 | H37: netipované | I37: 0:3 | J37: 1:4 | K37: 7:1 | L37: 0:1 | M37: 3:0 | N37: 2:4 | O37: 0:1 | P37: 1:1 | Q37: 6:1 | R37: 0:0 | S37: 1:4 | T37: 3:1 | U37: 1:1 | V37: 3:0 | W37: 6:1 | X37: 0:0
B38: Zjavka777 | C38: 9 | E38: 2 | F38: x | G38: 2 | H38: 1 | I38: 2 | J38: 2 | K38: 1 | L38: 1 | M38: 1 | N38: 2 | O38: 1 | P38: x | Q38: 1 | R38: 1 | S38: 1 2 | T38: 2 2 | U38: 2 1 | V38: 2 1 | W38: 3 1 | X38: 2 1
B39: Jarko77 | C39: 5 | E39: 1 | F39: 1 | G39: 1 | H39: 1 | I39: 1 | J39: 2 | K39: 1 | L39: 1 | M39: 1 | N39: 1 | O39: 1 | P39: 2 | Q39: 1 | R39: 1 | S39: 1 3 | T39: 2 0 | U39: 0 2 | V39: 1 0 | W39: 2 0 | X39: 1 0
B40: Dušan | C40: 8 | E40: 1 | F40: 2 | G40: 2 | H40: 1 | I40: 1 | J40: 2 | K40: 1 | L40: 1 | M40: 1 | N40: 1 | O40: 1 | P40: 1 | Q40: 1 | R40: 1 | S40: 1 2 | T40: 1 2 | U40: 4 1 | V40: 3 0 | W40: 3 1 | X40: 1 0
B41: Kladivo | C41: 5 | E41: 1 | F41: 1 | G41: 2 | H41: 1 | I41: 1 | J41: 1 | K41: 1 | L41: 1 | M41: 1 | N41: 1 | O41: 1 | P41: 1 | Q41: 1 | R41: 1 | S41: 2 1 | T41: 2 1 | U41: 2 1 | V41: 2 1 | W41: 2 1 | X41: 2 1
B42: Mino | C42: 4 | E42: 1 | F42: 1 | G42: 1 | H42: 1 | I42: 1 | J42: 1 | K42: 1 | L42: 1 | M42: 1 | N42: 1 | O42: 1 | P42: 1 | Q42: 1 | R42: 1 | S42: 2 1 | T42: 2 1 | U42: 2 1 | V42: 2 1 | W42: 2 1 | X42: 2 1
B43: Pavol | C43: 5 | E43: 1 | F43: 2 | G43: 1 | H43: 1 | I43: 1 | J43: 2 | K43: 1 | L43: 1 | M43: 1 | N43: 1 | O43: x | P43: 1 | Q43: 1 | R43: x | S43: 1 3 | T43: 1 2 | U43: 4 2 | V43: 3 1 | W43: 4 2 | X43: 2 2
B44: Trubka | C44: 9 | E44: 2 | F44: 2 | G44: 2 | H44: 1 | I44: 2 | J44: 2 | K44: 1 | L44: 2 | M44: 1 | N44: 2 | O44: 1 | P44: 1 | Q44: 1 | R44: 1 | S44: 1 3 | T44: 1 2 | U44: 4 2 | V44: 2 0 | W44: 2 0 | X44: 1 0
B45: HolaHou | C45: 10 | E45: x | F45: 1 | G45: 1 | H45: 1 | I45: 1 | J45: 2 | K45: 1 | L45: 2 | M45: 1 | N45: 1 | O45: 1 | P45: 1 | Q45: 1 | R45: x | S45: 1 3 | T45: 3 1 | U45: 4 2 | V45: 3 1 | W45: 3 1 | X45: 1 1
B46: Johny2001 | C46: 7 | E46: 1 | F46: x | G46: 2 | H46: 1 | I46: x | J46: 2 | K46: 1 | L46: 2 | M46: 1 | N46: 2 | O46: 1 | P46: 1 | Q46: 1 | R46: 1 | S46: 1 3 | T46: 1 1 | U46: 2 1 | V46: 2 0 | W46: 3 1 | X46: 1 0
B47: Legionar1987 | C47: 4 | E47: 1 | F47: 2 | G47: 1 | H47: 1 | I47: 2 | J47: 2 | K47: 2 | L47: 1 | M47: 1 | N47: 1 | O47: 1 | P47: 1 | Q47: 1 | R47: 1 | S47: 1 2 | T47: 0 2 | U47: 1 0 | V47: 2 1 | W47: 2 0 | X47: 1 0
B48: Steinar | C48: 6 | E48: 1 | F48: 2 | G48: 1 | H48: 1 | I48: 2 | J48: 2 | K48: 2 | L48: 2 | M48: 1 | N48: 1 | O48: 2 | P48: 1 | Q48: 1 | R48: 2 | S48: 1 2 | T48: 1 2 | U48: 3 2 | V48: 2 1 | W48: 3 1 | X48: 1 3
B49: Lorak | C49: 10 | E49: x | F49: 1 | G49: 1 | H49: 1 | I49: 2 | J49: 1 | K49: 1 | L49: 1 | M49: 1 | N49: 2 | O49: 1 | P49: x | Q49: 1 | R49: 1 | S49: 1 0 | T49: 2 0 | U49: 1 1 | V49: 2 1 | W49: 4 1 | X49: 1 0
A51: 4. | E51: SVR-RAK | F51: VAD-NES | G51: RUD-OCH | H51: POV-OLE | I51: HOR-KLO | J51: LOD-OŠČ | K51: RDL-SNE | L51: KOR-BIT | M51: POD-VAR | N51: GBE-ST.B | O51: ŠTI-SKA | P51: VYS-H.H | Q51: K.P-ZBO | R51: KRÁ-ČAD | S51: VAD-NES | T51: RDL-SNE | U51: HOR-KLO | V51: POD-VAR | W51: KOR-BIT | X51: KRÁ-ČAD
E52: 2:0 | F52: 2:2 | G52: 2:1 | H52: 7:1 | I52: 1:0 | J52: 2:5 | K52: 9:0 | L52: 2:1 | M52: 7:0 | N52: 2:0 | O52: 0:3 | P52: 3:0 | Q52: 3:2 | R52: 1:1 | S52: 2:2 | T52: 9:0 | U52: 1:0 | V52: 7:0 | W52: 2:1 | X52: 1:1
B53: Pavol | C53: 11 | E53: 1 | F53: 2 | G53: 2 | H53: 1 | I53: 1 | J53: 2 | K53: 1 | L53: 1 | M53: 1 | N53: 1 | O53: 2 | P53: 1 | Q53: 1 | R53: 2 | S53: 1 3 | T53: 3 0 | U53: 3 2 | V53: 4 1 | W53: 2 0 | X53: 1 2
B54: Lorak | C54: 12 | E54: 1 | F54: 2 | G54: x | H54: 1 | I54: 1 | J54: 1 | K54: 1 | L54: 1 | M54: 1 | N54: 1 | O54: 1 | P54: 1 | Q54: 1 | R54: 1 | S54: 1 2 | T54: 4 1 | U54: 1 0 | V54: 2 1 | W54: 1 0 | X54: 3 2
B55: Mino | C55: 13 | E55: 1 | F55: 1 | G55: 1 | H55: 1 | I55: 1 | J55: 1 | K55: 1 | L55: 1 | M55: 1 | N55: 1 | O55: 1 | P55: 1 | Q55: 1 | R55: 1 | S55: 2 1 | T55: 2 1 | U55: 2 1 | V55: 2 1 | W55: 2 1 | X55: 2 1
B56: Zjavka777 | C56: 8 | E56: 2 | F56: 2 | G56: 2 | H56: x | I56: 1 | J56: 1 | K56: 1 | L56: 1 | M56: 1 | N56: 2 | O56: x | P56: 1 | Q56: 2 | R56: 2 | S56: 1 3 | T56: 3 0 | U56: 2 1 | V56: 3 1 | W56: 2 1 | X56: 1 2
B57: Trubka | C57: 8 | E57: 1 | F57: 2 | G57: 2 | H57: 1 | I57: 2 | J57: 1 | K57: 1 | L57: 1 | M57: 1 | N57: 1 | O57: 1 | P57: 1 | Q57: 1 | R57: 2 | S57: 0 3 | T57: 3 1 | U57: 1 2 | V57: 5 0 | W57: 3 1 | X57: 0 2
B58: Legionar1987 | C58: 11 | E58: 2 | F58: 2 | G58: 1 | H58: 1 | I58: 1 | J58: 2 | K58: 1 | L58: 2 | M58: 2 | N58: 1 | O58: 1 | P58: 1 | Q58: 1 | R58: 2 | S58: 1 3 | T58: 2 0 | U58: 1 0 | V58: 1 2 | W58: 0 1 | X58: 1 3
B59: Peto91 | C59: 12 | E59: 2 | F59: 2 | G59: 2 | H59: 1 | I59: 2 | J59: 2 | K59: 1 | L59: 1 | M59: 1 | N59: 1 | O59: 2 | P59: 1 | Q59: 1 | R59: 1 | S59: 1 3 | T59: 5 0 | U59: 1 3 | V59: 5 1 | W59: 2 1 | X59: 2 1
B60: Kladivo | C60: 11 | E60: 2 | F60: 2 | G60: 1 | H60: 2 | I60: 1 | J60: 1 | K60: 1 | L60: 1 | M60: 1 | N60: 1 | O60: x | P60: 1 | Q60: 1 | R60: 1 | S60: 1 2 | T60: 5 0 | U60: 2 1 | V60: 5 0 | W60: 2 1 | X60: 2 1
B61: Jarko77 | C61: 9 | E61: 1 | F61: 2 | G61: 1 | H61: 1 | I61: 1 | J61: 1 | K61: 1 | L61: 1 | M61: 2 | N61: 1 | O61: 1 | P61: 1 | Q61: 1 | R61: 1 | S61: 1 3 | T61: 4 0 | U61: 2 0 | V61: 1 3 | W61: 2 0 | X61: 1 0
B62: Johny2001 | C62: 10 | F62: 2 | G62: x | H62: x | I62: 1 | J62: 1 | K62: 1 | L62: 1 | M62: 1 | N62: 1 | O62: 2 | P62: 1 | Q62: x | R62: 1 | S62: 1 3 | T62: 5 0 | U62: 2 1 | V62: 4 0 | W62: 2 1 | X62: 2 0
B63: Brandis | C63: 12 | F63: x | G63: 1 | H63: 1 | I63: 1 | J63: 1 | K63: 1 | L63: 1 | M63: 1 | N63: x | O63: 1 | P63: 1 | Q63: 1 | R63: 1 | S63: 2 2 | T63: 5 1 | U63: 2 1 | V63: 4 1 | W63: 3 1 | X63: 3 1
B64: Dušan | C64: 8 | F64: 2 | G64: 2 | H64: x | I64: 1 | J64: 1 | K64: 1 | L64: 1 | M64: 1 | N64: 1 | O64: 2 | P64: 1 | Q64: 1 | R64: 1 | S64: 1 3 | T64: 4 0 | U64: 2 1 | V64: 6 1 | W64: 3 1 | X64: 2 1
A66: 5. | E66: NES-POV | F66: KLO-RUD | G66: OLE-LOD | H66: OŠČ-RDL | I66: RAK-HOR | J66: SVR-SNE | K66: OCH-VAD | L66: BIT-POD | M66: ST.B-NED | N66: ZBO-ŠTI | O66: VAR-VYS | P66: SKA-KOR | Q66: ČAD-MAK | R66: RDS-KRA | S66: OLE-LOD | T66: RAK-HOR | U66: OCH-VAD | V66: SKA-KOR | W66: ZBO-ŠTI | X66: RDS-KRA
E67: 0:2 | F67: 1:2 | G67: 6:0 | H67: 0:1 | I67: 6:2 | J67: 6:0 | K67: 7:0 | L67: 0:5 | M67: 2:2 | N67: 3:0 | O67: 2:0 | P67: 3:0 | Q67: 4:2 | R67: 3:4 | S67: 6:0 | T67: 6:2 | U67: 7:0 | V67: 3:0 | W67: 3:0 | X67: 3:4
B68: Steinar | C68: 8 | E68: 1 | F68: 2 | G68: 1 | H68: 2 | I68: 1 | J68: 1 | K68: 2 | L68: 2 | M68: 2 | N68: 1 | O68: 2 | P68: 2 | Q68: 1 | R68: 1 | S68: 3 1 | T68: 4 0 | U68: 1 2 | V68: 1 2 | W68: 2 1 | X68: 1 0
B69: Kladivo | C69: 10 | E69: 1 | F69: 2 | G69: 1 | H69: 2 | I69: 1 | J69: 1 | K69: 1 | L69: 2 | M69: 1 | N69: 1 | O69: 2 | P69: 1 | Q69: 1 | R69: 1 | S69: 3 1 | T69: 2 1 | U69: 2 1 | V69: 2 1 | W69: 2 1 | X69: 2 1
B70: Ylia | C70: 7 | E70: 1 | F70: 1 | G70: x | H70: 2 | I70: 1 | J70: 1 | K70: 1 | L70: 1 | M70: 1 | N70: 1 | O70: x | P70: 1 | Q70: 1 | R70: x | S70: 0 2 | T70: 3 1 | U70: 2 1 | V70: 2 0 | W70: 3 2 | X70: 2 2
B71: Pavol | C71: 9 | E71: 1 | F71: 2 | G71: 2 | H71: 2 | I71: 1 | J71: 1 | K71: 1 | L71: 2 | M71: x | N71: x | O71: 2 | P71: 1 | Q71: 1 | R71: 1 | S71: 1 3 | T71: 4 1 | U71: 4 1 | V71: 5 1 | W71: 2 2 | X71: 3 1
B72: Zjavka777 | C72: 8 | E72: x | F72: 2 | G72: 1 | H72: 2 | I72: 1 | J72: x | K72: 1 | L72: 2 | M72: 1 | N72: x | O72: 2 | P72: 2 | Q72: 1 | R72: 2 | S72: 2 1 | T72: 2 1 | U72: 3 1 | V72: 1 2 | W72: 2 1 | X72: 1 2
B73: Mino | C73: 8 | E73: 1 | F73: 1 | G73: 1 | H73: 1 | I73: 1 | J73: 1 | K73: 1 | L73: 1 | M73: 1 | N73: 1 | O73: 1 | P73: 1 | Q73: 1 | R73: 1 | S73: 2 1 | T73: 2 1 | U73: 2 1 | V73: 2 1 | W73: 2 1 | X73: 2 1
B74: Legionar1987 | C74: 11 | E74: 1 | F74: 1 | G74: 1 | H74: 1 | I74: 1 | J74: 1 | K74: 1 | L74: 1 | M74: 1 | N74: 1 | O74: 1 | P74: 1 | Q74: 1 | R74: 1 | S74: 1 0 | T74: 2 0 | U74: 2 1 | V74: 3 1 | W74: 3 0 | X74: 1 0
B75: Trubka | C75: 9 | E75: 1 | F75: 2 | G75: 2 | H75: 2 | I75: 1 | J75: 1 | K75: 1 | L75: 2 | M75: 2 | N75: 1 | O75: 2 | P75: 1 | Q75: 1 | R75: 1 | S75: 0 2 | T75: 4 1 | U75: 3 1 | V75: 2 1 | W75: 2 0 | X75: 2 0
B76: Peto91 | C76: 9 | E76: 1 | F76: 2 | G76: 1 | H76: 2 | I76: 1 | J76: 1 | K76: 1 | L76: 2 | M76: 1 | N76: 1 | O76: 2 | P76: 1 | Q76: 2 | R76: 1 | S76: 3 1 | T76: 3 1 | U76: 3 1 | V76: 2 1 | W76: 2 1 | X76: 2 1
B77: Johny2001 | C77: 9 | E77: 1 | F77: 2 | G77: 1 | H77: 2 | I77: 1 | J77: 1 | K77: 1 | L77: 2 | M77: x | N77: 1 | O77: 2 | P77: x | Q77: x | R77: x | S77: 3 1 | T77: 2 0 | U77: 3 0 | V77: 1 1 | W77: 2 0 | X77: 1 1
B78: Jarko77 | C78: 9 | E78: 1 | F78: 2 | G78: 1 | H78: 1 | I78: 1 | J78: 1 | K78: 1 | L78: 1 | M78: 1 | N78: 1 | O78: 1 | P78: 1 | Q78: 1 | R78: 1 | S78: 2 0 | T78: 2 0 | U78: 3 0 | V78: 2 1 | W78: 1 0 | X78: 2 1
B79: Lorak | C79: 7 | E79: 1 | F79: x | G79: 2 | H79: x | I79: 1 | J79: 1 | K79: 1 | L79: 2 | M79: 2 | N79: 1 | O79: 1 | P79: 1 | Q79: x | R79: 1 | S79: 1 0 | T79: 2 1 | U79: 3 0 | V79: 2 1 | W79: 1 0 | X79: 3 2
A81: 6. | E81: SVR-OŠČ | F81: OLE-NES | G81: VAD-KLO | H81: POV-OCH | I81: LOD-RDL | J81: HOR-SNE | K81: RUD-RAK | L81: VYS-GBE | M81: K.P-ST.B | N81: KOR-ZBO | O81: POD-SKA | P81: ČIE-SVO | Q81: MAK-RDS | R81: KRA-STA | S81: VAD-KLO | T81: OLE-NES | U81: POV-OCH | V81: POD-SKA | W81: ČIE-SVO | X81: KRA-STA
E82: 1:3 | F82: zrušené | G82: zrušené | H82: 2:2 | I82: zrušené | J82: 5:1 | K82: zrušené | L82: 6:0 | M82: 2:1 | N82: zrušené | O82: zrušené | P82: zrušené | Q82: zrušené | R82: zrušené | S82: zrušené | T82: zrušné | U82: 2:2 | V82: zrušené | W82: zrušené | X82: zrušené
B83: Zjavka777 | C83: 6 | E83: 2 | F83: x | G83: 1 | H83: x | I83: 2 | J83: x | K83: 1 | L83: 1 | M83: 2 | N83: 2 | O83: 1 | P83: 1 | Q83: 2 | R83: 1 | S83: 2 1 | T83: 2 2 | U83: 2 2 | V83: 3 1 | W83: 2 1 | X83: 3 2
B84: Mino | C84: 3 | E84: 1 | F84: 1 | G84: 1 | H84: 1 | I84: 1 | J84: 1 | K84: 1 | L84: 1 | M84: 1 | N84: 1 | O84: 1 | P84: 1 | Q84: 1 | R84: 1 | S84: 2 1 | T84: 2 1 | U84: 2 1 | V84: 2 1 | W84: 2 1 | X84: 2 1
B85: Pavol | C85: 2 | E85: 1 | F85: 1 | G85: 1 | H85: 1 | I85: 2 | J85: x | K85: 2 | L85: 1 | M85: 1 | N85: 1 | O85: 1 | P85: 1 | Q85: 1 | R85: 1 | S85: 3 1 | T85: 4 1 | U85: 2 1 | V85: 4 2 | W85: 2 0 | X85: 1 0
B86: Peto91 | C86: 3 | E86: 1 | F86: 1 | G86: 1 | H86: 2 | I86: 2 | J86: 1 | K86: x | L86: 1 | M86: 1 | N86: 1 | O86: 1 | P86: x | Q86: 2 | R86: 1 | S86: 2 1 | T86: 3 1 | U86: 1 2 | V86: 3 2 | W86: 1 1 | X86: 2 1
B87: Lorak | C87: 3 | E87: 1 | F87: 2 | G87: 1 | H87: 1 | I87: 2 | J87: 1 | K87: 1 | L87: 1 | M87: 1 | N87: 1 | O87: 1 | P87: 1 | Q87: x | R87: 1 | S87: 1 0 | T87: 1 3 | U87: 2 1 | V87: 2 0 | W87: 2 1 | X87: 2 1
B88: Jarko77 | C88: 3 | E88: 1 | F88: 2 | G88: 1 | H88: 1 | I88: 2 | J88: 1 | K88: 1 | L88: 1 | M88: 1 | N88: 1 | O88: 1 | P88: 1 | Q88: 1 | R88: 1 | S88: 2 0 | T88: 1 3 | U88: 2 1 | V88: 2 1 | W88: 2 0 | X88: 1 0
B89: Trubka | C89: 2 | E89: 1 | F89: 1 | G89: 1 | H89: 1 | I89: 2 | J89: 2 | K89: 2 | L89: 1 | M89: 1 | N89: 1 | O89: 1 | P89: 1 | Q89: 2 | R89: 1 | S89: 3 0 | T89: 2 0 | U89: 2 0 | V89: 3 1 | W89: 3 1 | X89: 2 0
B90: Johny2001 | C90: 2 | E90: x | F90: 2 | G90: 1 | H90: 1 | I90: 2 | J90: 1 | K90: 1 | L90: 1 | M90: x | N90: x | O90: 1 | P90: 1 | Q90: x | R90: 1 | S90: 2 0 | T90: 1 2 | U90: 2 0 | V90: 3 1 | W90: 2 0 | X90: 2 0
B91: Legionar1987 | C91: 3 | E91: 2 | F91: 2 | G91: 2 | H91: 1 | I91: 2 | J91: 1 | K91: 1 | L91: 1 | M91: 2 | N91: 2 | O91: 1 | P91: 1 | Q91: 2 | R91: 1 | S91: 2 3 | T91: 1 2 | U91: 2 1 | V91: 1 0 | W91: 3 1 | X91: 5 2
B92: Dušan | C92: 3 | E92: 1 | F92: 1 | G92: 1 | H92: 1 | I92: 1 | J92: 1 | K92: 1 | L92: 1 | M92: 1 | N92: 1 | O92: 1 | P92: 1 | Q92: 1 | R92: 1 | S92: 2 0 | T92: 3 1 | U92: 2 1 | V92: 3 1 | W92: 2 0 | X92: 3 0
B93: Kladivo | C93: 3 | E93: 1 | F93: 2 | G93: 1 | H93: 1 | I93: 2 | J93: 1 | K93: 1 | L93: 1 | M93: 1 | N93: 1 | O93: 1 | P93: 1 | Q93: 1 | R93: 1 | S93: 3 1 | T93: 1 2 | U93: 2 1 | V93: 3 0 | W93: 2 1 | X93: 2 1
B94: Brandis | C94: 2 | E94: 1 | F94: 1 | G94: 1 | H94: 1 | I94: 2 | J94: 1 | K94: 1 | L94: 1 | M94: x | N94: 1 | O94: x | P94: 1 | Q94: 1 | R94: 1 | S94: 3 1 | T94: 3 1 | U94: 3 1 | V94: 2 2 | W94: 3 1 | X94: 3 1
A96: 7. | E96: NES-LOD | F96: KLO-POV | G96: OCH-OLE | H96: RAK-VAD | I96: RDL-SVR | J96: SNE-RUD | K96: OŠČ-HOR | L96: BIT-VYS | M96: ST.B-ŠTI | N96: ĎUR-KOR | O96: SKA-VAR | P96: ZBO-POD | Q96: TUR-O.J. | R96: STA-MAK | S96: SNE-RUD | T96: OŠČ-HOR | U96: KLO-POV | V96: ZBO-POD | W96: ST.B-ŠTI | X96: STA-MAK
E97: 3:1 | F97: 1:5 | G97: 3:0 | H97: 6:2 | I97: 6:0 | J97: 1:1 | K97: 1:0 | L97: 0:2 | M97: 5:1 | N97: 3:2 | O97: 2:0 | P97: 1:1 | Q97: 1:0 | R97: 0:2 | S97: 1:1 | T97: 1:0 | U97: 1:5 | V97: 1:1 | W97: 5:1 | X97: 0:2
B98: Zjavka777 | C98: 10 | E98: 1 | F98: 2 | G98: 1 | H98: 1 | I98: 1 | J98: 2 | K98: 1 | L98: 2 | M98: 1 | N98: x | O98: 1 | P98: 2 | Q98: 1 | R98: 1 | S98: 0 2 | T98: 3 1 | U98: 1 3 | V98: 1 2 | W98: 2 1 | X98: 2 0
B99: Legionar1987 | C99: 9 | E99: 1 | F99: 1 | G99: 1 | H99: 1 | I99: 1 | J99: 2 | K99: 1 | L99: 1 | M99: 1 | N99: 1 | O99: 1 | P99: 1 | Q99: 1 | R99: 1 | S99: 0 2 | T99: 2 0 | U99: 2 0 | V99: 2 1 | W99: 1 0 | X99: 3 0
B100: Lorak | C100: 12 | E100: 1 | F100: 1 | G100: 1 | H100: 1 | I100: 1 | J100: 2 | K100: 1 | L100: 1 | M100: 1 | N100: 1 | O100: 1 | P100: 1 | Q100: 1 | R100: 1 | S100: 1 3 | T100: 1 0 | U100: 2 1 | V100: 2 0 | W100: 2 1 | X100: 1 0
B101: Brandis | C101: 9 | E101: 1 | F101: x | G101: 1 | H101: 1 | I101: 1 | J101: 2 | K101: 1 | L101: x | M101: 1 | N101: 1 | O101: 1 | P101: 2 | Q101: 1 | R101: 1 | S101: 1 3 | T101: 3 1 | U101: 2 2 | V101: 1 3 | W101: 3 1 | X101: 2 1
B102: Dušan | C102: 14 | E102: 1 | F102: 2 | G102: 1 | H102: 1 | I102: 1 | J102: x | K102: 1 | L102: 1 | M102: 1 | N102: 1 | O102: 1 | P102: 2 | Q102: 1 | R102: 1 | S102: 1 1 | T102: 3 0 | U102: 1 4 | V102: 0 4 | W102: 2 1 | X102: 2 1
B103: Kladivo | C103: 11 | E103: 1 | F103: 2 | G103: 1 | H103: 1 | I103: 1 | J103: 2 | K103: 1 | L103: 2 | M103: 1 | N103: 1 | O103: 1 | P103: 2 | Q103: 1 | R103: 1 | S103: 1 2 | T103: 3 1 | U103: 1 2 | V103: 1 5 | W103: 2 1 | X103: 2 1
B104: Mino | C104: 9 | E104: 1 | F104: 1 | G104: 1 | H104: 1 | I104: 1 | J104: 1 | K104: 1 | L104: 1 | M104: 1 | N104: 1 | O104: 1 | P104: 1 | Q104: 1 | R104: 1 | S104: 2 1 | T104: 2 1 | U104: 2 1 | V104: 2 1 | W104: 2 1 | X104: 2 1
B105: Johny2001 | C105: 9 | E105: 1 | F105: 2 | G105: x | H105: 1 | I105: 1 | J105: 2 | K105: 1 | L105: 2 | M105: 1 | N105: x | O105: 1 | P105: 2 | Q105: 1 | R105: x | S105: 1 3 | T105: 3 0 | U105: 0 3 | V105: 1 3 | W105: 2 1 | X105: 1 1
B106: Trubka | C106: 11 | E106: 1 | F106: 2 | G106: 1 | H106: 1 | I106: 1 | J106: 2 | K106: 1 | L106: 2 | M106: 1 | N106: 1 | O106: 1 | P106: 2 | Q106: 1 | R106: 1 | S106: 1 4 | T106: 2 0 | U106: 0 2 | V106: 0 2 | W106: 2 0 | X106: 2 1
...

Sheet VYHODNOTENIE
E1: 1.kolo | H1: 2.kolo | K1: 3.kolo | N1: 4.kolo | Q1: 5.kolo | T1: 6.kolo | W1: 7.kolo | Z1: 8.kolo | AC1: 9.kolo | AF1: 10.kolo | AI1: 11.kolo | AL1: 12.kolo | AO1: 13.kolo | AR1: 14.kolo | AU1: 15.kolo | AX1: 16.kolo | BA1: 17.kolo | BD1: 18.kolo | BG1: 19.kolo | BJ1: 20.kolo | BM1: 21.kolo | BP1: 22.kolo | BS1: 23.kolo | BV1: 24.kolo | BY1: 25.kolo | CB1: 26.kolo
A2: nick | D2: kolo | E2: p.z. | F2: body | G2: kolo | H2: p.z. | I2: body | J2: kolo | K2: p.z. | L2: body | M2: kolo | N2: p.z. | O2: body | P2: kolo | Q2: p.z. | R2: body | S2: kolo | T2: p.z. | U2: body | V2: kolo | W2: p.z. | X2: body | Y2: kolo | Z2: p.z. | AA2: body | AB2: kolo | AC2: p.z. | AD2: body | AE2: kolo | AF2: p.z. | AG2: body | AH2: kolo | AI2: p.z. | AJ2: body | AK2: kolo | AL2: p.z. | AM2: body | AN2: kolo | AO2: p.z. | AP2: body | AQ2: kolo | AR2: p.z. | AS2: body | AT2: kolo | AU2: p.z. | AV2: body | AW2: kolo | AX2: p.z. | AY2: body | AZ2: kolo | BA2: p.z. | BB2: body | BC2: kolo | BD2: p.z. | BE2: body | BF2: kolo | BG2: p.z. | BH2: body | BI2: kolo | BJ2: p.z. | BK2: body | BL2: kolo | BM2: p.z. | BN2: body | BO2: kolo | BP2: p.z. | BQ2: body | BR2: kolo | BS2: p.z. | BT2: body | BU2: kolo | BV2: p.z. | BW2: body | BX2: kolo | BY2: p.z. | BZ2: body | CA2: kolo | CB2: p.z. | CC2: body | CD2: nick | CF2: kolo | CG2: p.z. | CH2: body | CI2: Ø | CJ2: % | CL2: 1 | CM2: 2 | CN2: 3 | CO2: 4 | CP2: 5 | CQ2: 6 | CR2: 7 | CS2: 8 | CT2: 9 | CU2: 10 | CV2: 11 | CW2: 12 | CX2: 13 | CY2: 14 | CZ2: 15 | DA2: 16 | DB2: 17 | DC2: 18 | DD2: 19 | DE2: 20 | DF2: 21 | DG2: 22 | DH2: 23 | DI2: 24 | DJ2: 25 | DK2: 26
A3: Bekino | D3: 1 | E3: 19 | F3: 6 | CD3: =A3 -> Bekino | CF3: =D3+G3+J3+M3+P3+S3+V3+Y3+AB3+AE3+AH3+AK3+AN3+AQ3+AT3+AW3+AZ3+BC3+BF3+BI3+BL3+BO3+BR3+BU3+BX3+CA3 -> 1 | CG3: =E3+H3+K3+N3+Q3+T3+W3+Z3+AC3+AF3+AI3+AL3+AO3+AR3+AU3+AX3+BA3+BD3+BG3+BJ3+BM3+BP3+BS3+BV3+BY3+CB3 -> 19 | CH3: =F3+I3+L3+O3+R3+U3+X3+AA3+AD3+AG3+AJ3+AM3+AP3+AS3+AV3+AY3+BB3+BE3+BH3+BK3+BN3+BQ3+BT3+BW3+BZ3+CC3 -> 6 | CI3: =CH3/CF3 -> 6 | CJ3: =100/CG3*CH3 -> 31.578947 | CL3: =F3 -> 6 | CM3: =I3 -> 0 | CN3: =L3 -> 0 | CO3: =O3 -> 0 | CP3: =R3 -> 0 | CQ3: =U3 -> 0 | CR3: =X3 -> 0 | CS3: =AA3 -> 0 | CT3: =AD3 -> 0 | CU3: =AG3 -> 0 | CV3: =AJ3 -> 0 | CW3: =AM3 -> 0 | CX3: =AP3 -> 0 | CY3: =AS3 -> 0 | CZ3: =AV3 -> 0 | DA3: =AY3 -> 0 | DB3: =BB3 -> 0 | DC3: =BE3 -> 0 | DD3: =BH3 -> 0 | DE3: =BK3 -> 0 | DF3: =BN3 -> 0 | DG3: =BQ3 -> 0 | DH3: =BT3 -> 0 | DI3: =BW3 -> 0 | DJ3: =BZ3 -> 0 | DK3: =CC3 -> 0 | DM3: =SUM(CL3:DL3) -> 6 | DN3: =CD3 -> Bekino
A4: Brandis | D4: 1 | E4: 19 | F4: 10 | G4: 1 | H4: 20 | I4: 6 | M4: 1 | N4: 19 | O4: 12 | S4: 1 | T4: 6 | U4: 2 | V4: 1 | W4: 20 | X4: 9 | AB4: 1 | AC4: 15 | AD4: 5 | AE4: 1 | AF4: 19 | AG4: 8 | AH4: 1 | AI4: 18 | AJ4: 4 | AK4: 1 | AL4: 19 | AM4: 13 | AN4: 1 | AO4: 20 | AP4: 7 | AQ4: 1 | AR4: 8 | AS4: 4 | AT4: 1 | AU4: 20 | AV4: 11 | AW4: 1 | AX4: 17 | AY4: 8 | AZ4: 1 | BA4: 20 | BB4: 9 | BC4: 1 | BD4: 20 | BE4: 9 | BF4: 1 | BG4: 20 | BH4: 8 | BI4: 1 | BJ4: 20 | BK4: 6 | BL4: 1 | BM4: 20 | BN4: 7 | BO4: 2 | BP4: 38 | BQ4: 18 | BR4: 1 | BS4: 20 | BT4: 9 | BU4: 1 | BV4: 20 | BW4: 10 | CA4: 1 | CB4: 17 | CC4: 7 | CD4: =A4 -> Brandis | CF4: =D4+G4+J4+M4+P4+S4+V4+Y4+AB4+AE4+AH4+AK4+AN4+AQ4+AT4+AW4+AZ4+BC4+BF4+BI4+BL4+BO4+BR4+BU4+BX4+CA4 -> 23 | CG4: =E4+H4+K4+N4+Q4+T4+W4+Z4+AC4+AF4+AI4+AL4+AO4+AR4+AU4+AX4+BA4+BD4+BG4+BJ4+BM4+BP4+BS4+BV4+BY4+CB4 -> 415 | CH4: =F4+I4+L4+O4+R4+U4+X4+AA4+AD4+AG4+AJ4+AM4+AP4+AS4+AV4+AY4+BB4+BE4+BH4+BK4+BN4+BQ4+BT4+BW4+BZ4+CC4 -> 182 | CI4: =CH4/CF4 -> 7.9130435 | CJ4: =100/CG4*CH4 -> 43.855422 | CL4: =F4 -> 10 | CM4: =I4 -> 6 | CN4: =L4 -> 0 | CO4: =O4 -> 12 | CP4: =R4 -> 0 | CQ4: =U4 -> 2 | CR4: =X4 -> 9 | CS4: =AA4 -> 0 | CT4: =AD4 -> 5 | CU4: =AG4 -> 8 | CV4: =AJ4 -> 4 | CW4: =AM4 -> 13 | CX4: =AP4 -> 7 | CY4: =AS4 -> 4 | CZ4: =AV4 -> 11 | DA4: =AY4 -> 8 | DB4: =BB4 -> 9 | DC4: =BE4 -> 9 | DD4: =BH4 -> 8 | DE4: =BK4 -> 6 | DF4: =BN4 -> 7 | DG4: =BQ4 -> 18 | DH4: =BT4 -> 9 | DI4: =BW4 -> 10 | DJ4: =BZ4 -> 0 | DK4: =CC4 -> 7 | DM4: =SUM(CL4:DL4) -> 182 | DN4: =CD4 -> Brandis
A5: Dušan | D5: 1 | E5: 19 | F5: 10 | G5: 1 | H5: 20 | I5: 7 | J5: 1 | K5: 19 | L5: 8 | M5: 1 | N5: 19 | O5: 8 | S5: 1 | T5: 6 | U5: 3 | V5: 1 | W5: 20 | X5: 14 | Y5: 1 | Z5: 20 | AA5: 15 | AB5: 1 | AC5: 20 | AD5: 12 | AE5: 1 | AF5: 19 | AG5: 7 | AH5: 1 | AI5: 18 | AJ5: 11 | AK5: 1 | AL5: 19 | AM5: 10 | AN5: 1 | AO5: 20 | AP5: 11 | AQ5: 1 | AR5: 8 | AS5: 7 | AT5: 1 | AU5: 20 | AV5: 10 | AW5: 1 | AX5: 17 | AY5: 8 | AZ5: 1 | BA5: 20 | BB5: 6 | BC5: 1 | BD5: 20 | BE5: 10 | BF5: 1 | BG5: 20 | BH5: 9 | BI5: 1 | BJ5: 20 | BK5: 5 | BL5: 1 | BM5: 20 | BN5: 8 | BO5: 2 | BP5: 38 | BQ5: 24 | BR5: 1 | BS5: 20 | BT5: 11 | BU5: 1 | BV5: 20 | BW5: 13 | BX5: 1 | BY5: 20 | BZ5: 10 | CA5: 1 | CB5: 17 | CC5: 7 | CD5: =A5 -> Dušan | CF5: =D5+G5+J5+M5+P5+S5+V5+Y5+AB5+AE5+AH5+AK5+AN5+AQ5+AT5+AW5+AZ5+BC5+BF5+BI5+BL5+BO5+BR5+BU5+BX5+CA5 -> 26 | CG5: =E5+H5+K5+N5+Q5+T5+W5+Z5+AC5+AF5+AI5+AL5+AO5+AR5+AU5+AX5+BA5+BD5+BG5+BJ5+BM5+BP5+BS5+BV5+BY5+CB5 -> 479 | CH5: =F5+I5+L5+O5+R5+U5+X5+AA5+AD5+AG5+AJ5+AM5+AP5+AS5+AV5+AY5+BB5+BE5+BH5+BK5+BN5+BQ5+BT5+BW5+BZ5+CC5 -> 244 | CI5: =CH5/CF5 -> 9.3846154 | CJ5: =100/CG5*CH5 -> 50.939457 | CL5: =F5 -> 10 | CM5: =I5 -> 7 | CN5: =L5 -> 8 | CO5: =O5 -> 8 | CP5: =R5 -> 0 | CQ5: =U5 -> 3 | CR5: =X5 -> 14 | CS5: =AA5 -> 15 | CT5: =AD5 -> 12 | CU5: =AG5 -> 7 | CV5: =AJ5 -> 11 | CW5: =AM5 -> 10 | CX5: =AP5 -> 11 | CY5: =AS5 -> 7 | CZ5: =AV5 -> 10 | DA5: =AY5 -> 8 | DB5: =BB5 -> 6 | DC5: =BE5 -> 10 | DD5: =BH5 -> 9 | DE5: =BK5 -> 5 | DF5: =BN5 -> 8 | DG5: =BQ5 -> 24 | DH5: =BT5 -> 11 | DI5: =BW5 -> 13 | DJ5: =BZ5 -> 10 | DK5: =CC5 -> 7 | DM5: =SUM(CL5:DL5) -> 244 | DN5: =CD5 -> Dušan
A6: Duško | D6: 1 | E6: 19 | F6: 13 | CD6: =A6 -> Duško | CF6: =D6+G6+J6+M6+P6+S6+V6+Y6+AB6+AE6+AH6+AK6+AN6+AQ6+AT6+AW6+AZ6+BC6+BF6+BI6+BL6+BO6+BR6+BU6+BX6+CA6 -> 1 | CG6: =E6+H6+K6+N6+Q6+T6+W6+Z6+AC6+AF6+AI6+AL6+AO6+AR6+AU6+AX6+BA6+BD6+BG6+BJ6+BM6+BP6+BS6+BV6+BY6+CB6 -> 19 | CH6: =F6+I6+L6+O6+R6+U6+X6+AA6+AD6+AG6+AJ6+AM6+AP6+AS6+AV6+AY6+BB6+BE6+BH6+BK6+BN6+BQ6+BT6+BW6+BZ6+CC6 -> 13 | CI6: =CH6/CF6 -> 13 | CJ6: =100/CG6*CH6 -> 68.421053 | CL6: =F6 -> 13 | CM6: =I6 -> 0 | CN6: =L6 -> 0 | CO6: =O6 -> 0 | CP6: =R6 -> 0 | CQ6: =U6 -> 0 | CR6: =X6 -> 0 | CS6: =AA6 -> 0 | CT6: =AD6 -> 0 | CU6: =AG6 -> 0 | CV6: =AJ6 -> 0 | CW6: =AM6 -> 0 | CX6: =AP6 -> 0 | CY6: =AS6 -> 0 | CZ6: =AV6 -> 0 | DA6: =AY6 -> 0 | DB6: =BB6 -> 0 | DC6: =BE6 -> 0 | DD6: =BH6 -> 0 | DE6: =BK6 -> 0 | DF6: =BN6 -> 0 | DG6: =BQ6 -> 0 | DH6: =BT6 -> 0 | DI6: =BW6 -> 0 | DJ6: =BZ6 -> 0 | DK6: =CC6 -> 0 | DM6: =SUM(CL6:DL6) -> 13 | DN6: =CD6 -> Duško
A7: HolaHou | D7: 1 | E7: 19 | F7: 9 | J7: 1 | K7: 19 | L7: 10 | AT7: 1 | AU7: 20 | AV7: 9 | CD7: =A7 -> HolaHou | CF7: =D7+G7+J7+M7+P7+S7+V7+Y7+AB7+AE7+AH7+AK7+AN7+AQ7+AT7+AW7+AZ7+BC7+BF7+BI7+BL7+BO7+BR7+BU7+BX7+CA7 -> 3 | CG7: =E7+H7+K7+N7+Q7+T7+W7+Z7+AC7+AF7+AI7+AL7+AO7+AR7+AU7+AX7+BA7+BD7+BG7+BJ7+BM7+BP7+BS7+BV7+BY7+CB7 -> 58 | CH7: =F7+I7+L7+O7+R7+U7+X7+AA7+AD7+AG7+AJ7+AM7+AP7+AS7+AV7+AY7+BB7+BE7+BH7+BK7+BN7+BQ7+BT7+BW7+BZ7+CC7 -> 28 | CI7: =CH7/CF7 -> 9.3333333 | CJ7: =100/CG7*CH7 -> 48.275862 | CL7: =F7 -> 9 | CM7: =I7 -> 0 | CN7: =L7 -> 10 | CO7: =O7 -> 0 | CP7: =R7 -> 0 | CQ7: =U7 -> 0 | CR7: =X7 -> 0 | CS7: =AA7 -> 0 | CT7: =AD7 -> 0 | CU7: =AG7 -> 0 | CV7: =AJ7 -> 0 | CW7: =AM7 -> 0 | CX7: =AP7 -> 0 | CY7: =AS7 -> 0 | CZ7: =AV7 -> 9 | DA7: =AY7 -> 0 | DB7: =BB7 -> 0 | DC7: =BE7 -> 0 | DD7: =BH7 -> 0 | DE7: =BK7 -> 0 | DF7: =BN7 -> 0 | DG7: =BQ7 -> 0 | DH7: =BT7 -> 0 | DI7: =BW7 -> 0 | DJ7: =BZ7 -> 0 | DK7: =CC7 -> 0 | DM7: =SUM(CL7:DL7) -> 28 | DN7: =CD7 -> HolaHou
A8: Jarko77 | D8: 1 | E8: 19 | F8: 5 | G8: 1 | H8: 20 | I8: 6 | J8: 1 | K8: 19 | L8: 5 | M8: 1 | N8: 20 | O8: 9 | P8: 1 | Q8: 20 | R8: 9 | S8: 1 | T8: 6 | U8: 3 | V8: 1 | W8: 20 | X8: 11 | Y8: 1 | Z8: 20 | AA8: 11 | AB8: 1 | AC8: 20 | AD8: 11 | AH8: 1 | AI8: 18 | AJ8: 6 | AK8: 1 | AL8: 19 | AM8: 14 | AN8: 1 | AO8: 20 | AP8: 10 | AQ8: 1 | AR8: 8 | AS8: 4 | AT8: 1 | AU8: 20 | AV8: 8 | AW8: 1 | AX8: 17 | AY8: 8 | AZ8: 1 | BA8: 20 | BB8: 5 | BC8: 1 | BD8: 20 | BE8: 12 | BF8: 1 | BG8: 20 | BH8: 6 | BI8: 1 | BJ8: 20 | BK8: 8 | BL8: 1 | BM8: 20 | BN8: 11 | BO8: 2 | BP8: 38 | BQ8: 17 | BR8: 1 | BS8: 20 | BT8: 5 | BU8: 1 | BV8: 20 | BW8: 9 | BX8: 1 | BY8: 20 | BZ8: 10 | CA8: 1 | CB8: 17 | CC8: 7 | CD8: =A8 -> Jarko77 | CF8: =D8+G8+J8+M8+P8+S8+V8+Y8+AB8+AE8+AH8+AK8+AN8+AQ8+AT8+AW8+AZ8+BC8+BF8+BI8+BL8+BO8+BR8+BU8+BX8+CA8 -> 26 | CG8: =E8+H8+K8+N8+Q8+T8+W8+Z8+AC8+AF8+AI8+AL8+AO8+AR8+AU8+AX8+BA8+BD8+BG8+BJ8+BM8+BP8+BS8+BV8+BY8+CB8 -> 481 | CH8: =F8+I8+L8+O8+R8+U8+X8+AA8+AD8+AG8+AJ8+AM8+AP8+AS8+AV8+AY8+BB8+BE8+BH8+BK8+BN8+BQ8+BT8+BW8+BZ8+CC8 -> 210 | CI8: =CH8/CF8 -> 8.0769231 | CJ8: =100/CG8*CH8 -> 43.659044 | CL8: =F8 -> 5 | CM8: =I8 -> 6 | CN8: =L8 -> 5 | CO8: =O8 -> 9 | CP8: =R8 -> 9 | CQ8: =U8 -> 3 | CR8: =X8 -> 11 | CS8: =AA8 -> 11 | CT8: =AD8 -> 11 | CU8: =AG8 -> 0 | CV8: =AJ8 -> 6 | CW8: =AM8 -> 14 | CX8: =AP8 -> 10 | CY8: =AS8 -> 4 | CZ8: =AV8 -> 8 | DA8: =AY8 -> 8 | DB8: =BB8 -> 5 | DC8: =BE8 -> 12 | DD8: =BH8 -> 6 | DE8: =BK8 -> 8 | DF8: =BN8 -> 11 | DG8: =BQ8 -> 17 | DH8: =BT8 -> 5 | DI8: =BW8 -> 9 | DJ8: =BZ8 -> 10 | DK8: =CC8 -> 7 | DM8: =SUM(CL8:DL8) -> 210 | DN8: =CD8 -> Jarko77
A9: Johny2001 | D9: 1 | E9: 19 | F9: 7 | G9: 1 | H9: 20 | I9: 9 | J9: 1 | K9: 19 | L9: 7 | M9: 1 | N9: 19 | O9: 10 | P9: 1 | Q9: 20 | R9: 9 | S9: 1 | T9: 6 | U9: 2 | V9: 1 | W9: 20 | X9: 9 | Y9: 1 | Z9: 20 | AA9: 12 | AB9: 1 | AC9: 20 | AD9: 8 | AE9: 1 | AF9: 19 | AG9: 8 | AH9: 1 | AI9: 18 | AJ9: 5 | AK9: 1 | AL9: 19 | AM9: 14 | AN9: 1 | AO9: 20 | AP9: 8 | AQ9: 1 | AR9: 8 | AS9: 4 | AT9: 1 | AU9: 20 | AV9: 13 | AW9: 1 | AX9: 17 | AY9: 12 | AZ9: 1 | BA9: 20 | BB9: 3 | BC9: 1 | BD9: 20 | BE9: 13 | BF9: 1 | BG9: 20 | BH9: 8 | BI9: 1 | BJ9: 20 | BK9: 6 | BL9: 1 | BM9: 20 | BN9: 5 | BO9: 2 | BP9: 38 | BQ9: 15 | BR9: 1 | BS9: 20 | BT9: 8 | BU9: 1 | BV9: 20 | BW9: 12 | BX9: 1 | BY9: 20 | BZ9: 10 | CA9: 1 | CB9: 17 | CC9: 13 | CD9: =A9 -> Johny2001 | CF9: =D9+G9+J9+M9+P9+S9+V9+Y9+AB9+AE9+AH9+AK9+AN9+AQ9+AT9+AW9+AZ9+BC9+BF9+BI9+BL9+BO9+BR9+BU9+BX9+CA9 -> 27 | CG9: =E9+H9+K9+N9+Q9+T9+W9+Z9+AC9+AF9+AI9+AL9+AO9+AR9+AU9+AX9+BA9+BD9+BG9+BJ9+BM9+BP9+BS9+BV9+BY9+CB9 -> 499 | CH9: =F9+I9+L9+O9+R9+U9+X9+AA9+AD9+AG9+AJ9+AM9+AP9+AS9+AV9+AY9+BB9+BE9+BH9+BK9+BN9+BQ9+BT9+BW9+BZ9+CC9 -> 230 | CI9: =CH9/CF9 -> 8.5185185 | CJ9: =100/CG9*CH9 -> 46.092184 | CL9: =F9 -> 7 | CM9: =I9 -> 9 | CN9: =L9 -> 7 | CO9: =O9 -> 10 | CP9: =R9 -> 9 | CQ9: =U9 -> 2 | CR9: =X9 -> 9 | CS9: =AA9 -> 12 | CT9: =AD9 -> 8 | CU9: =AG9 -> 8 | CV9: =AJ9 -> 5 | CW9: =AM9 -> 14 | CX9: =AP9 -> 8 | CY9: =AS9 -> 4 | CZ9: =AV9 -> 13 | DA9: =AY9 -> 12 | DB9: =BB9 -> 3 | DC9: =BE9 -> 13 | DD9: =BH9 -> 8 | DE9: =BK9 -> 6 | DF9: =BN9 -> 5 | DG9: =BQ9 -> 15 | DH9: =BT9 -> 8 | DI9: =BW9 -> 12 | DJ9: =BZ9 -> 10 | DK9: =CC9 -> 13 | DM9: =SUM(CL9:DL9) -> 230 | DN9: =CD9 -> Johny2001
A10: Kaciato | Y10: 1 | Z10: 20 | AA10: 8 | CD10: =A10 -> Kaciato | CF10: =D10+G10+J10+M10+P10+S10+V10+Y10+AB10+AE10+AH10+AK10+AN10+AQ10+AT10+AW10+AZ10+BC10+BF10+BI10+BL10+BO10+BR10+BU10+BX10+CA10 -> 1 | CG10: =E10+H10+K10+N10+Q10+T10+W10+Z10+AC10+AF10+AI10+AL10+AO10+AR10+AU10+AX10+BA10+BD10+BG10+BJ10+BM10+BP10+BS10+BV10+BY10+CB10 -> 20 | CH10: =F10+I10+L10+O10+R10+U10+X10+AA10+AD10+AG10+AJ10+AM10+AP10+AS10+AV10+AY10+BB10+BE10+BH10+BK10+BN10+BQ10+BT10+BW10+BZ10+CC10 -> 8 | CI10: =CH10/CF10 -> 8 | CJ10: =100/CG10*CH10 -> 40 | CL10: =F10 -> 0 | CM10: =I10 -> 0 | CN10: =L10 -> 0 | CO10: =O10 -> 0 | CP10: =R10 -> 0 | CQ10: =U10 -> 0 | CR10: =X10 -> 0 | CS10: =AA10 -> 8 | CT10: =AD10 -> 0 | CU10: =AG10 -> 0 | CV10: =AJ10 -> 0 | CW10: =AM10 -> 0 | CX10: =AP10 -> 0 | CY10: =AS10 -> 0 | CZ10: =AV10 -> 0 | DA10: =AY10 -> 0 | DB10: =BB10 -> 0 | DC10: =BE10 -> 0 | DD10: =BH10 -> 0 | DE10: =BK10 -> 0 | DF10: =BN10 -> 0 | DG10: =BQ10 -> 0 | DH10: =BT10 -> 0 | DI10: =BW10 -> 0 | DJ10: =BZ10 -> 0 | DK10: =CC10 -> 0 | DM10: =SUM(CL10:DL10) -> 8 | DN10: =CD10 -> Kaciato
A11: Kaper | AB11: 1 | AC11: 20 | AD11: 9 | AN11: 1 | AO11: 20 | AP11: 9 | AW11: 1 | AX11: 17 | AY11: 12 | BC11: 1 | BD11: 20 | BE11: 17 | BF11: 1 | BG11: 20 | BH11: 10 | BI11: 1 | BJ11: 20 | BK11: 11 | BL11: 1 | BM11: 20 | BN11: 9 | BO11: 2 | BP11: 38 | BQ11: 22 | BR11: 1 | BS11: 20 | BT11: 7 | CD11: =A11 -> Kaper | CF11: =D11+G11+J11+M11+P11+S11+V11+Y11+AB11+AE11+AH11+AK11+AN11+AQ11+AT11+AW11+AZ11+BC11+BF11+BI11+BL11+BO11+BR11+BU11+BX11+CA11 -> 10 | CG11: =E11+H11+K11+N11+Q11+T11+W11+Z11+AC11+AF11+AI11+AL11+AO11+AR11+AU11+AX11+BA11+BD11+BG11+BJ11+BM11+BP11+BS11+BV11+BY11+CB11 -> 195 | CH11: =F11+I11+L11+O11+R11+U11+X11+AA11+AD11+AG11+AJ11+AM11+AP11+AS11+AV11+AY11+BB11+BE11+BH11+BK11+BN11+BQ11+BT11+BW11+BZ11+CC11 -> 106 | CI11: =CH11/CF11 -> 10.6 | CJ11: =100/CG11*CH11 -> 54.358974 | CL11: =F11 -> 0 | CM11: =I11 -> 0 | CN11: =L11 -> 0 | CO11: =O11 -> 0 | CP11: =R11 -> 0 | CQ11: =U11 -> 0 | CR11: =X11 -> 0 | CS11: =AA11 -> 0 | CT11: =AD11 -> 9 | CU11: =AG11 -> 0 | CV11: =AJ11 -> 0 | CW11: =AM11 -> 0 | CX11: =AP11 -> 9 | CY11: =AS11 -> 0 | CZ11: =AV11 -> 0 | DA11: =AY11 -> 12 | DB11: =BB11 -> 0 | DC11: =BE11 -> 17 | DD11: =BH11 -> 10 | DE11: =BK11 -> 11 | DF11: =BN11 -> 9 | DG11: =BQ11 -> 22 | DH11: =BT11 -> 7 | DI11: =BW11 -> 0 | DJ11: =BZ11 -> 0 | DK11: =CC11 -> 0 | DM11: =SUM(CL11:DL11) -> 106 | DN11: =CD11 -> Kaper
A12: Kladivo | D12: 1 | E12: 19 | F12: 10 | G12: 1 | H12: 19 | I12: 6 | J12: 1 | K12: 19 | L12: 5 | M12: 1 | N12: 20 | O12: 11 | P12: 1 | Q12: 20 | R12: 10 | S12: 1 | T12: 6 | U12: 3 | V12: 1 | W12: 20 | X12: 11 | Y12: 1 | Z12: 20 | AA12: 10 | AB12: 1 | AC12: 15 | AD12: 7 | AE12: 1 | AF12: 19 | AG12: 8 | AH12: 1 | AI12: 18 | AJ12: 14 | AK12: 1 | AL12: 19 | AM12: 13 | AN12: 1 | AO12: 20 | AP12: 10 | AQ12: 1 | AR12: 8 | AS12: 4 | AT12: 1 | AU12: 20 | AV12: 16 | AW12: 1 | AX12: 17 | AY12: 12 | AZ12: 1 | BA12: 20 | BB12: 5 | BC12: 1 | BD12: 20 | BE12: 11 | BF12: 1 | BG12: 20 | BH12: 7 | BI12: 1 | BJ12: 20 | BK12: 7 | BL12: 1 | BM12: 20 | BN12: 8 | BO12: 2 | BP12: 38 | BQ12: 24 | BR12: 1 | BS12: 20 | BT12: 8 | BU12: 1 | BV12: 20 | BW12: 12 | BX12: 1 | BY12: 20 | BZ12: 10 | CA12: 1 | CB12: 17 | CC12: 11 | CD12: =A12 -> Kladivo | CF12: =D12+G12+J12+M12+P12+S12+V12+Y12+AB12+AE12+AH12+AK12+AN12+AQ12+AT12+AW12+AZ12+BC12+BF12+BI12+BL12+BO12+BR12+BU12+BX12+CA12 -> 27 | CG12: =E12+H12+K12+N12+Q12+T12+W12+Z12+AC12+AF12+AI12+AL12+AO12+AR12+AU12+AX12+BA12+BD12+BG12+BJ12+BM12+BP12+BS12+BV12+BY12+CB12 -> 494 | CH12: =F12+I12+L12+O12+R12+U12+X12+AA12+AD12+AG12+AJ12+AM12+AP12+AS12+AV12+AY12+BB12+BE12+BH12+BK12+BN12+BQ12+BT12+BW12+BZ12+CC12 -> 253 | CI12: =CH12/CF12 -> 9.3703704 | CJ12: =100/CG12*CH12 -> 51.214575 | CL12: =F12 -> 10 | CM12: =I12 -> 6 | CN12: =L12 -> 5 | CO12: =O12 -> 11 | CP12: =R12 -> 10 | CQ12: =U12 -> 3 | CR12: =X12 -> 11 | CS12: =AA12 -> 10 | CT12: =AD12 -> 7 | CU12: =AG12 -> 8 | CV12: =AJ12 -> 14 | CW12: =AM12 -> 13 | CX12: =AP12 -> 10 | CY12: =AS12 -> 4 | CZ12: =AV12 -> 16 | DA12: =AY12 -> 12 | DB12: =BB12 -> 5 | DC12: =BE12 -> 11 | DD12: =BH12 -> 7 | DE12: =BK12 -> 7 | DF12: =BN12 -> 8 | DG12: =BQ12 -> 24 | DH12: =BT12 -> 8 | DI12: =BW12 -> 12 | DJ12: =BZ12 -> 10 | DK12: =CC12 -> 11 | DM12: =SUM(CL12:DL12) -> 253 | DN12: =CD12 -> Kladivo
A13: Legionar1987 | D13: 1 | E13: 15 | F13: 7 | G13: 1 | H13: 20 | I13: 8 | J13: 1 | K13: 19 | L13: 4 | M13: 1 | N13: 20 | O13: 11 | P13: 1 | Q13: 20 | R13: 11 | S13: 1 | T13: 6 | U13: 3 | V13: 1 | W13: 20 | X13: 9 | Y13: 1 | Z13: 20 | AA13: 10 | AB13: 1 | AC13: 15 | AD13: 6 | AE13: 1 | AF13: 19 | AG13: 10 | AH13: 1 | AI13: 18 | AJ13: 11 | AK13: 1 | AL13: 19 | AM13: 3 | AN13: 1 | AO13: 20 | AP13: 10 | AQ13: 1 | AR13: 8 | AS13: 4 | AT13: 1 | AU13: 20 | AV13: 13 | AW13: 1 | AX13: 17 | AY13: 19 | AZ13: 1 | BA13: 20 | BB13: 10 | BC13: 1 | BD13: 20 | BE13: 10 | BF13: 1 | BG13: 20 | BH13: 10 | BI13: 1 | BJ13: 20 | BK13: 7 | BL13: 1 | BM13: 20 | BN13: 10 | BO13: 2 | BP13: 38 | BQ13: 20 | BR13: 1 | BS13: 20 | BT13: 7 | BX13: 1 | BY13: 20 | BZ13: 10 | CA13: 1 | CB13: 17 | CC13: 6 | CD13: =A13 -> Legionar1987 | CF13: =D13+G13+J13+M13+P13+S13+V13+Y13+AB13+AE13+AH13+AK13+AN13+AQ13+AT13+AW13+AZ13+BC13+BF13+BI13+BL13+BO13+BR13+BU13+BX13+CA13 -> 26 | CG13: =E13+H13+K13+N13+Q13+T13+W13+Z13+AC13+AF13+AI13+AL13+AO13+AR13+AU13+AX13+BA13+BD13+BG13+BJ13+BM13+BP13+BS13+BV13+BY13+CB13 -> 471 | CH13: =F13+I13+L13+O13+R13+U13+X13+AA13+AD13+AG13+AJ13+AM13+AP13+AS13+AV13+AY13+BB13+BE13+BH13+BK13+BN13+BQ13+BT13+BW13+BZ13+CC13 -> 229 | CI13: =CH13/CF13 -> 8.8076923 | CJ13: =100/CG13*CH13 -> 48.619958 | CL13: =F13 -> 7 | CM13: =I13 -> 8 | CN13: =L13 -> 4 | CO13: =O13 -> 11 | CP13: =R13 -> 11 | CQ13: =U13 -> 3 | CR13: =X13 -> 9 | CS13: =AA13 -> 10 | CT13: =AD13 -> 6 | CU13: =AG13 -> 10 | CV13: =AJ13 -> 11 | CW13: =AM13 -> 3 | CX13: =AP13 -> 10 | CY13: =AS13 -> 4 | CZ13: =AV13 -> 13 | DA13: =AY13 -> 19 | DB13: =BB13 -> 10 | DC13: =BE13 -> 10 | DD13: =BH13 -> 10 | DE13: =BK13 -> 7 | DF13: =BN13 -> 10 | DG13: =BQ13 -> 20 | DH13: =BT13 -> 7 | DI13: =BW13 -> 0 | DJ13: =BZ13 -> 10 | DK13: =CC13 -> 6 | DM13: =SUM(CL13:DL13) -> 229 | DN13: =CD13 -> Legionar1987
A14: Lorak | D14: 1 | E14: 19 | F14: 6 | G14: 1 | H14: 20 | I14: 4 | J14: 1 | K14: 19 | L14: 10 | M14: 1 | N14: 20 | O14: 12 | P14: 1 | Q14: 20 | R14: 7 | S14: 1 | T14: 6 | U14: 3 | V14: 1 | W14: 20 | X14: 12 | Y14: 1 | Z14: 20 | AA14: 10 | AB14: 1 | AC14: 20 | AD14: 10 | AE14: 1 | AF14: 19 | AG14: 8 | AH14: 1 | AI14: 18 | AJ14: 4 | AK14: 1 | AL14: 19 | AM14: 11 | AN14: 1 | AO14: 20 | AP14: 10 | AQ14: 1 | AR14: 8 | AS14: 7 | AT14: 1 | AU14: 20 | AV14: 7 | AW14: 1 | AX14: 17 | AY14: 10 | AZ14: 1 | BA14: 20 | BB14: 6 | BC14: 1 | BD14: 20 | BE14: 8 | BF14: 1 | BG14: 20 | BH14: 8 | BI14: 1 | BJ14: 20 | BK14: 6 | BL14: 1 | BM14: 20 | BN14: 12 | BO14: 2 | BP14: 37 | BQ14: 20 | BR14: 1 | BS14: 20 | BT14: 7 | BU14: 1 | BV14: 20 | BW14: 8 | BX14: 1 | BY14: 20 | BZ14: 8 | CA14: 1 | CB14: 17 | CC14: 8 | CD14: =A14 -> Lorak | CF14: =D14+G14+J14+M14+P14+S14+V14+Y14+AB14+AE14+AH14+AK14+AN14+AQ14+AT14+AW14+AZ14+BC14+BF14+BI14+BL14+BO14+BR14+BU14+BX14+CA14 -> 27 | CG14: =E14+H14+K14+N14+Q14+T14+W14+Z14+AC14+AF14+AI14+AL14+AO14+AR14+AU14+AX14+BA14+BD14+BG14+BJ14+BM14+BP14+BS14+BV14+BY14+CB14 -> 499 | CH14: =F14+I14+L14+O14+R14+U14+X14+AA14+AD14+AG14+AJ14+AM14+AP14+AS14+AV14+AY14+BB14+BE14+BH14+BK14+BN14+BQ14+BT14+BW14+BZ14+CC14 -> 222 | CI14: =CH14/CF14 -> 8.2222222 | CJ14: =100/CG14*CH14 -> 44.488978 | CL14: =F14 -> 6 | CM14: =I14 -> 4 | CN14: =L14 -> 10 | CO14: =O14 -> 12 | CP14: =R14 -> 7 | CQ14: =U14 -> 3 | CR14: =X14 -> 12 | CS14: =AA14 -> 10 | CT14: =AD14 -> 10 | CU14: =AG14 -> 8 | CV14: =AJ14 -> 4 | CW14: =AM14 -> 11 | CX14: =AP14 -> 10 | CY14: =AS14 -> 7 | CZ14: =AV14 -> 7 | DA14: =AY14 -> 10 | DB14: =BB14 -> 6 | DC14: =BE14 -> 8 | DD14: =BH14 -> 8 | DE14: =BK14 -> 6 | DF14: =BN14 -> 12 | DG14: =BQ14 -> 20 | DH14: =BT14 -> 7 | DI14: =BW14 -> 8 | DJ14: =BZ14 -> 8 | DK14: =CC14 -> 8 | DM14: =SUM(CL14:DL14) -> 222 | DN14: =CD14 -> Lorak
A15: Mino | D15: 1 | E15: 19 | F15: 9 | G15: 1 | H15: 20 | I15: 6 | J15: 1 | K15: 19 | L15: 4 | M15: 1 | N15: 20 | O15: 13 | P15: 1 | Q15: 20 | R15: 8 | S15: 1 | T15: 6 | U15: 3 | V15: 1 | W15: 20 | X15: 9 | AB15: 1 | AC15: 20 | AD15: 5 | AE15: 1 | AF15: 19 | AG15: 7 | AH15: 1 | AI15: 18 | AJ15: 3 | AK15: 1 | AL15: 19 | AM15: 12 | AN15: 1 | AO15: 20 | AP15: 5 | AQ15: 1 | AR15: 8 | AS15: 4 | AT15: 1 | AU15: 20 | AV15: 8 | AW15: 1 | AX15: 17 | AY15: 9 | AZ15: 1 | BA15: 20 | BB15: 4 | BC15: 1 | BD15: 20 | BE15: 8 | BF15: 1 | BG15: 20 | BH15: 10 | BI15: 1 | BJ15: 20 | BK15: 11 | BL15: 1 | BM15: 20 | BN15: 10 | BO15: 1 | BP15: 18 | BQ15: 6 | BU15: 1 | BV15: 20 | BW15: 11 | BX15: 1 | BY15: 20 | BZ15: 7 | CA15: 1 | CB15: 17 | CC15: 8 | CD15: =A15 -> Mino | CF15: =D15+G15+J15+M15+P15+S15+V15+Y15+AB15+AE15+AH15+AK15+AN15+AQ15+AT15+AW15+AZ15+BC15+BF15+BI15+BL15+BO15+BR15+BU15+BX15+CA15 -> 24 | CG15: =E15+H15+K15+N15+Q15+T15+W15+Z15+AC15+AF15+AI15+AL15+AO15+AR15+AU15+AX15+BA15+BD15+BG15+BJ15+BM15+BP15+BS15+BV15+BY15+CB15 -> 440 | CH15: =F15+I15+L15+O15+R15+U15+X15+AA15+AD15+AG15+AJ15+AM15+AP15+AS15+AV15+AY15+BB15+BE15+BH15+BK15+BN15+BQ15+BT15+BW15+BZ15+CC15 -> 180 | CI15: =CH15/CF15 -> 7.5 | CJ15: =100/CG15*CH15 -> 40.909091 | CL15: =F15 -> 9 | CM15: =I15 -> 6 | CN15: =L15 -> 4 | CO15: =O15 -> 13 | CP15: =R15 -> 8 | CQ15: =U15 -> 3 | CR15: =X15 -> 9 | CS15: =AA15 -> 0 | CT15: =AD15 -> 5 | CU15: =AG15 -> 7 | CV15: =AJ15 -> 3 | CW15: =AM15 -> 12 | CX15: =AP15 -> 5 | CY15: =AS15 -> 4 | CZ15: =AV15 -> 8 | DA15: =AY15 -> 9 | DB15: =BB15 -> 4 | DC15: =BE15 -> 8 | DD15: =BH15 -> 10 | DE15: =BK15 -> 11 | DF15: =BN15 -> 10 | DG15: =BQ15 -> 6 | DH15: =BT15 -> 0 | DI15: =BW15 -> 11 | DJ15: =BZ15 -> 7 | DK15: =CC15 -> 8 | DM15: =SUM(CL15:DL15) -> 180 | DN15: =CD15 -> Mino
A16: Miro23 | AQ16: 1 | AR16: 8 | AS16: 7 | AT16: 1 | AU16: 20 | AV16: 4 | AW16: 1 | AX16: 17 | AY16: 8 | AZ16: 1 | BA16: 20 | BB16: 3 | BC16: 1 | BD16: 20 | BE16: 6 | BF16: 1 | BG16: 20 | BH16: 7 | BI16: 1 | BJ16: 20 | BK16: 8 | BL16: 1 | BM16: 20 | BN16: 8 | BO16: 2 | BP16: 38 | BQ16: 10 | BR16: 1 | BS16: 20 | BT16: 7 | BU16: 1 | BV16: 20 | BW16: 7 | BX16: 1 | BY16: 20 | BZ16: 8 | CA16: 1 | CB16: 17 | CC16: 7 | CD16: =A16 -> Miro23 | CF16: =D16+G16+J16+M16+P16+S16+V16+Y16+AB16+AE16+AH16+AK16+AN16+AQ16+AT16+AW16+AZ16+BC16+BF16+BI16+BL16+BO16+BR16+BU16+BX16+CA16 -> 14 | CG16: =E16+H16+K16+N16+Q16+T16+W16+Z16+AC16+AF16+AI16+AL16+AO16+AR16+AU16+AX16+BA16+BD16+BG16+BJ16+BM16+BP16+BS16+BV16+BY16+CB16 -> 260 | CH16: =F16+I16+L16+O16+R16+U16+X16+AA16+AD16+AG16+AJ16+AM16+AP16+AS16+AV16+AY16+BB16+BE16+BH16+BK16+BN16+BQ16+BT16+BW16+BZ16+CC16 -> 90 | CI16: =CH16/CF16 -> 6.4285714 | CJ16: =100/CG16*CH16 -> 34.615385 | CL16: =F16 -> 0 | CM16: =I16 -> 0 | CN16: =L16 -> 0 | CO16: =O16 -> 0 | CP16: =R16 -> 0 | CQ16: =U16 -> 0 | CR16: =X16 -> 0 | CS16: =AA16 -> 0 | CT16: =AD16 -> 0 | CU16: =AG16 -> 0 | CV16: =AJ16 -> 0 | CW16: =AM16 -> 0 | CX16: =AP16 -> 0 | CY16: =AS16 -> 7 | CZ16: =AV16 -> 4 | DA16: =AY16 -> 8 | DB16: =BB16 -> 3 | DC16: =BE16 -> 6 | DD16: =BH16 -> 7 | DE16: =BK16 -> 8 | DF16: =BN16 -> 8 | DG16: =BQ16 -> 10 | DH16: =BT16 -> 7 | DI16: =BW16 -> 7 | DJ16: =BZ16 -> 8 | DK16: =CC16 -> 7 | DM16: =SUM(CL16:DL16) -> 90 | DN16: =CD16 -> Miro23
A17: Pavol | D17: 1 | E17: 15 | F17: 7 | G17: 1 | H17: 20 | I17: 11 | J17: 1 | K17: 19 | L17: 5 | M17: 1 | N17: 20 | O17: 11 | P17: 1 | Q17: 20 | R17: 9 | S17: 1 | T17: 6 | U17: 2 | Y17: 1 | Z17: 20 | AA17: 8 | AB17: 1 | AC17: 20 | AD17: 10 | AE17: 1 | AF17: 19 | AG17: 8 | AH17: 1 | AI17: 18 | AJ17: 11 | AK17: 1 | AL17: 19 | AM17: 10 | AN17: 1 | AO17: 20 | AP17: 15 | AQ17: 1 | AR17: 8 | AS17: 3 | AT17: 1 | AU17: 17 | AV17: 7 | AW17: 1 | AX17: 17 | AY17: 6 | AZ17: 1 | BA17: 20 | BB17: 12 | BC17: 1 | BD17: 20 | BE17: 12 | BF17: 1 | BG17: 20 | BH17: 11 | BI17: 1 | BJ17: 20 | BK17: 10 | BL17: 1 | BM17: 20 | BN17: 8 | BO17: 2 | BP17: 38 | BQ17: 18 | BR17: 1 | BS17: 20 | BT17: 8 | BU17: 1 | BV17: 20 | BW17: 10 | BX17: 1 | BY17: 20 | BZ17: 8 | CA17: 1 | CB17: 17 | CC17: 10 | CD17: =A17 -> Pavol | CF17: =D17+G17+J17+M17+P17+S17+V17+Y17+AB17+AE17+AH17+AK17+AN17+AQ17+AT17+AW17+AZ17+BC17+BF17+BI17+BL17+BO17+BR17+BU17+BX17+CA17 -> 26 | CG17: =E17+H17+K17+N17+Q17+T17+W17+Z17+AC17+AF17+AI17+AL17+AO17+AR17+AU17+AX17+BA17+BD17+BG17+BJ17+BM17+BP17+BS17+BV17+BY17+CB17 -> 473 | CH17: =F17+I17+L17+O17+R17+U17+X17+AA17+AD17+AG17+AJ17+AM17+AP17+AS17+AV17+AY17+BB17+BE17+BH17+BK17+BN17+BQ17+BT17+BW17+BZ17+CC17 -> 230 | CI17: =CH17/CF17 -> 8.8461538 | CJ17: =100/CG17*CH17 -> 48.625793 | CL17: =F17 -> 7 | CM17: =I17 -> 11 | CN17: =L17 -> 5 | CO17: =O17 -> 11 | CP17: =R17 -> 9 | CQ17: =U17 -> 2 | CR17: =X17 -> 0 | CS17: =AA17 -> 8 | CT17: =AD17 -> 10 | CU17: =AG17 -> 8 | CV17: =AJ17 -> 11 | CW17: =AM17 -> 10 | CX17: =AP17 -> 15 | CY17: =AS17 -> 3 | CZ17: =AV17 -> 7 | DA17: =AY17 -> 6 | DB17: =BB17 -> 12 | DC17: =BE17 -> 12 | DD17: =BH17 -> 11 | DE17: =BK17 -> 10 | DF17: =BN17 -> 8 | DG17: =BQ17 -> 18 | DH17: =BT17 -> 8 | DI17: =BW17 -> 10 | DJ17: =BZ17 -> 8 | DK17: =CC17 -> 10 | DM17: =SUM(CL17:DL17) -> 230 | DN17: =CD17 -> Pavol
A18: Peto91 | D18: 1 | E18: 19 | F18: 9 | M18: 1 | N18: 20 | O18: 12 | P18: 1 | Q18: 20 | R18: 9 | S18: 1 | T18: 6 | U18: 3 | V18: 1 | W18: 20 | X18: 9 | Y18: 1 | Z18: 20 | AA18: 10 | AB18: 1 | AC18: 20 | AD18: 8 | AE18: 1 | AF18: 19 | AG18: 7 | AH18: 1 | AI18: 18 | AJ18: 8 | AK18: 1 | AL18: 19 | AM18: 9 | AN18: 1 | AO18: 20 | AP18: 11 | AQ18: 1 | AR18: 8 | AS18: 4 | AT18: 1 | AU18: 20 | AV18: 8 | AW18: 1 | AX18: 17 | AY18: 11 | AZ18: 1 | BA18: 20 | BB18: 3 | CD18: =A18 -> Peto91 | CF18: =D18+G18+J18+M18+P18+S18+V18+Y18+AB18+AE18+AH18+AK18+AN18+AQ18+AT18+AW18+AZ18+BC18+BF18+BI18+BL18+BO18+BR18+BU18+BX18+CA18 -> 15 | CG18: =E18+H18+K18+N18+Q18+T18+W18+Z18+AC18+AF18+AI18+AL18+AO18+AR18+AU18+AX18+BA18+BD18+BG18+BJ18+BM18+BP18+BS18+BV18+BY18+CB18 -> 266 | CH18: =F18+I18+L18+O18+R18+U18+X18+AA18+AD18+AG18+AJ18+AM18+AP18+AS18+AV18+AY18+BB18+BE18+BH18+BK18+BN18+BQ18+BT18+BW18+BZ18+CC18 -> 121 | CI18: =CH18/CF18 -> 8.0666667 | CJ18: =100/CG18*CH18 -> 45.488722 | CL18: =F18 -> 9 | CM18: =I18 -> 0 | CN18: =L18 -> 0 | CO18: =O18 -> 12 | CP18: =R18 -> 9 | CQ18: =U18 -> 3 | CR18: =X18 -> 9 | CS18: =AA18 -> 10 | CT18: =AD18 -> 8 | CU18: =AG18 -> 7 | CV18: =AJ18 -> 8 | CW18: =AM18 -> 9 | CX18: =AP18 -> 11 | CY18: =AS18 -> 4 | CZ18: =AV18 -> 8 | DA18: =AY18 -> 11 | DB18: =BB18 -> 3 | DC18: =BE18 -> 0 | DD18: =BH18 -> 0 | DE18: =BK18 -> 0 | DF18: =BN18 -> 0 | DG18: =BQ18 -> 0 | DH18: =BT18 -> 0 | DI18: =BW18 -> 0 | DJ18: =BZ18 -> 0 | DK18: =CC18 -> 0 | DM18: =SUM(CL18:DL18) -> 121 | DN18: =CD18 -> Peto91
A19: Sagvan | AB19: 1 | AC19: 15 | AD19: 3 | CD19: =A19 -> Sagvan | CF19: =D19+G19+J19+M19+P19+S19+V19+Y19+AB19+AE19+AH19+AK19+AN19+AQ19+AT19+AW19+AZ19+BC19+BF19+BI19+BL19+BO19+BR19+BU19+BX19+CA19 -> 1 | CG19: =E19+H19+K19+N19+Q19+T19+W19+Z19+AC19+AF19+AI19+AL19+AO19+AR19+AU19+AX19+BA19+BD19+BG19+BJ19+BM19+BP19+BS19+BV19+BY19+CB19 -> 15 | CH19: =F19+I19+L19+O19+R19+U19+X19+AA19+AD19+AG19+AJ19+AM19+AP19+AS19+AV19+AY19+BB19+BE19+BH19+BK19+BN19+BQ19+BT19+BW19+BZ19+CC19 -> 3 | CI19: =CH19/CF19 -> 3 | CJ19: =100/CG19*CH19 -> 20 | CL19: =F19 -> 0 | CM19: =I19 -> 0 | CN19: =L19 -> 0 | CO19: =O19 -> 0 | CP19: =R19 -> 0 | CQ19: =U19 -> 0 | CR19: =X19 -> 0 | CS19: =AA19 -> 0 | CT19: =AD19 -> 3 | CU19: =AG19 -> 0 | CV19: =AJ19 -> 0 | CW19: =AM19 -> 0 | CX19: =AP19 -> 0 | CY19: =AS19 -> 0 | CZ19: =AV19 -> 0 | DA19: =AY19 -> 0 | DB19: =BB19 -> 0 | DC19: =BE19 -> 0 | DD19: =BH19 -> 0 | DE19: =BK19 -> 0 | DF19: =BN19 -> 0 | DG19: =BQ19 -> 0 | DH19: =BT19 -> 0 | DI19: =BW19 -> 0 | DJ19: =BZ19 -> 0 | DK19: =CC19 -> 0 | DM19: =SUM(CL19:DL19) -> 3 | DN19: =CD19 -> Sagvan
A20: Steinar | J20: 1 | K20: 19 | L20: 6 | P20: 1 | Q20: 20 | R20: 8 | CD20: =A20 -> Steinar | CF20: =D20+G20+J20+M20+P20+S20+V20+Y20+AB20+AE20+AH20+AK20+AN20+AQ20+AT20+AW20+AZ20+BC20+BF20+BI20+BL20+BO20+BR20+BU20+BX20+CA20 -> 2 | CG20: =E20+H20+K20+N20+Q20+T20+W20+Z20+AC20+AF20+AI20+AL20+AO20+AR20+AU20+AX20+BA20+BD20+BG20+BJ20+BM20+BP20+BS20+BV20+BY20+CB20 -> 39 | CH20: =F20+I20+L20+O20+R20+U20+X20+AA20+AD20+AG20+AJ20+AM20+AP20+AS20+AV20+AY20+BB20+BE20+BH20+BK20+BN20+BQ20+BT20+BW20+BZ20+CC20 -> 14 | CI20: =CH20/CF20 -> 7 | CJ20: =100/CG20*CH20 -> 35.897436 | CL20: =F20 -> 0 | CM20: =I20 -> 0 | CN20: =L20 -> 6 | CO20: =O20 -> 0 | CP20: =R20 -> 8 | CQ20: =U20 -> 0 | CR20: =X20 -> 0 | CS20: =AA20 -> 0 | CT20: =AD20 -> 0 | CU20: =AG20 -> 0 | CV20: =AJ20 -> 0 | CW20: =AM20 -> 0 | CX20: =AP20 -> 0 | CY20: =AS20 -> 0 | CZ20: =AV20 -> 0 | DA20: =AY20 -> 0 | DB20: =BB20 -> 0 | DC20: =BE20 -> 0 | DD20: =BH20 -> 0 | DE20: =BK20 -> 0 | DF20: =BN20 -> 0 | DG20: =BQ20 -> 0 | DH20: =BT20 -> 0 | DI20: =BW20 -> 0 | DJ20: =BZ20 -> 0 | DK20: =CC20 -> 0 | DM20: =SUM(CL20:DL20) -> 14 | DN20: =CD20 -> Steinar
A21: Tobikoo | D21: 1 | E21: 19 | F21: 10 | CD21: =A21 -> Tobikoo | CF21: =D21+G21+J21+M21+P21+S21+V21+Y21+AB21+AE21+AH21+AK21+AN21+AQ21+AT21+AW21+AZ21+BC21+BF21+BI21+BL21+BO21+BR21+BU21+BX21+CA21 -> 1 | CG21: =E21+H21+K21+N21+Q21+T21+W21+Z21+AC21+AF21+AI21+AL21+AO21+AR21+AU21+AX21+BA21+BD21+BG21+BJ21+BM21+BP21+BS21+BV21+BY21+CB21 -> 19 | CH21: =F21+I21+L21+O21+R21+U21+X21+AA21+AD21+AG21+AJ21+AM21+AP21+AS21+AV21+AY21+BB21+BE21+BH21+BK21+BN21+BQ21+BT21+BW21+BZ21+CC21 -> 10 | CI21: =CH21/CF21 -> 10 | CJ21: =100/CG21*CH21 -> 52.631579 | CL21: =F21 -> 10 | CM21: =I21 -> 0 | CN21: =L21 -> 0 | CO21: =O21 -> 0 | CP21: =R21 -> 0 | CQ21: =U21 -> 0 | CR21: =X21 -> 0 | CS21: =AA21 -> 0 | CT21: =AD21 -> 0 | CU21: =AG21 -> 0 | CV21: =AJ21 -> 0 | CW21: =AM21 -> 0 | CX21: =AP21 -> 0 | CY21: =AS21 -> 0 | CZ21: =AV21 -> 0 | DA21: =AY21 -> 0 | DB21: =BB21 -> 0 | DC21: =BE21 -> 0 | DD21: =BH21 -> 0 | DE21: =BK21 -> 0 | DF21: =BN21 -> 0 | DG21: =BQ21 -> 0 | DH21: =BT21 -> 0 | DI21: =BW21 -> 0 | DJ21: =BZ21 -> 0 | DK21: =CC21 -> 0 | DM21: =SUM(CL21:DL21) -> 10 | DN21: =CD21 -> Tobikoo
A22: Trubka | D22: 1 | E22: 19 | F22: 14 | G22: 1 | H22: 20 | I22: 9 | J22: 1 | K22: 19 | L22: 9 | M22: 1 | N22: 20 | O22: 8 | P22: 1 | Q22: 20 | R22: 9 | S22: 1 | T22: 6 | U22: 2 | V22: 1 | W22: 20 | X22: 11 | Y22: 1 | Z22: 20 | AA22: 9 | AB22: 1 | AC22: 20 | AD22: 10 | AE22: 1 | AF22: 19 | AG22: 8 | AH22: 1 | AI22: 18 | AJ22: 10 | AK22: 1 | AL22: 19 | AM22: 9 | AN22: 1 | AO22: 20 | AP22: 11 | AQ22: 1 | AR22: 8 | AS22: 3 | AT22: 1 | AU22: 20 | AV22: 14 | AW22: 1 | AX22: 17 | AY22: 11 | AZ22: 1 | BA22: 20 | BB22: 9 | BC22: 1 | BD22: 20 | BE22: 11 | BF22: 1 | BG22: 20 | BH22: 8 | BI22: 1 | BJ22: 20 | BK22: 6 | BL22: 1 | BM22: 20 | BN22: 7 | BO22: 2 | BP22: 38 | BQ22: 23 | BR22: 1 | BS22: 20 | BT22: 8 | BU22: 1 | BV22: 20 | BW22: 14 | BX22: 1 | BY22: 20 | BZ22: 9 | CA22: 1 | CB22: 17 | CC22: 7 | CD22: =A22 -> Trubka | CF22: =D22+G22+J22+M22+P22+S22+V22+Y22+AB22+AE22+AH22+AK22+AN22+AQ22+AT22+AW22+AZ22+BC22+BF22+BI22+BL22+BO22+BR22+BU22+BX22+CA22 -> 27 | CG22: =E22+H22+K22+N22+Q22+T22+W22+Z22+AC22+AF22+AI22+AL22+AO22+AR22+AU22+AX22+BA22+BD22+BG22+BJ22+BM22+BP22+BS22+BV22+BY22+CB22 -> 500 | CH22: =F22+I22+L22+O22+R22+U22+X22+AA22+AD22+AG22+AJ22+AM22+AP22+AS22+AV22+AY22+BB22+BE22+BH22+BK22+BN22+BQ22+BT22+BW22+BZ22+CC22 -> 249 | CI22: =CH22/CF22 -> 9.2222222 | CJ22: =100/CG22*CH22 -> 49.8 | CL22: =F22 -> 14 | CM22: =I22 -> 9 | CN22: =L22 -> 9 | CO22: =O22 -> 8 | CP22: =R22 -> 9 | CQ22: =U22 -> 2 | CR22: =X22 -> 11 | CS22: =AA22 -> 9 | CT22: =AD22 -> 10 | CU22: =AG22 -> 8 | CV22: =AJ22 -> 10 | CW22: =AM22 -> 9 | CX22: =AP22 -> 11 | CY22: =AS22 -> 3 | CZ22: =AV22 -> 14 | DA22: =AY22 -> 11 | DB22: =BB22 -> 9 | DC22: =BE22 -> 11 | DD22: =BH22 -> 8 | DE22: =BK22 -> 6 | DF22: =BN22 -> 7 | DG22: =BQ22 -> 23 | DH22: =BT22 -> 8 | DI22: =BW22 -> 14 | DJ22: =BZ22 -> 9 | DK22: =CC22 -> 7 | DM22: =SUM(CL22:DL22) -> 249 | DN22: =CD22 -> Trubka
A23: Ylia | D23: 1 | E23: 19 | F23: 10 | P23: 1 | Q23: 20 | R23: 7 | Y23: 1 | Z23: 20 | AA23: 14 | AZ23: 1 | BA23: 20 | BB23: 15 | BC23: 1 | BD23: 20 | BE23: 7 | CD23: =A23 -> Ylia | CF23: =D23+G23+J23+M23+P23+S23+V23+Y23+AB23+AE23+AH23+AK23+AN23+AQ23+AT23+AW23+AZ23+BC23+BF23+BI23+BL23+BO23+BR23+BU23+BX23+CA23 -> 5 | CG23: =E23+H23+K23+N23+Q23+T23+W23+Z23+AC23+AF23+AI23+AL23+AO23+AR23+AU23+AX23+BA23+BD23+BG23+BJ23+BM23+BP23+BS23+BV23+BY23+CB23 -> 99 | CH23: =F23+I23+L23+O23+R23+U23+X23+AA23+AD23+AG23+AJ23+AM23+AP23+AS23+AV23+AY23+BB23+BE23+BH23+BK23+BN23+BQ23+BT23+BW23+BZ23+CC23 -> 53 | CI23: =CH23/CF23 -> 10.6 | CJ23: =100/CG23*CH23 -> 53.535354 | CL23: =F23 -> 10 | CM23: =I23 -> 0 | CN23: =L23 -> 0 | CO23: =O23 -> 0 | CP23: =R23 -> 7 | CQ23: =U23 -> 0 | CR23: =X23 -> 0 | CS23: =AA23 -> 14 | CT23: =AD23 -> 0 | CU23: =AG23 -> 0 | CV23: =AJ23 -> 0 | CW23: =AM23 -> 0 | CX23: =AP23 -> 0 | CY23: =AS23 -> 0 | CZ23: =AV23 -> 0 | DA23: =AY23 -> 0 | DB23: =BB23 -> 15 | DC23: =BE23 -> 7 | DD23: =BH23 -> 0 | DE23: =BK23 -> 0 | DF23: =BN23 -> 0 | DG23: =BQ23 -> 0 | DH23: =BT23 -> 0 | DI23: =BW23 -> 0 | DJ23: =BZ23 -> 0 | DK23: =CC23 -> 0 | DM23: =SUM(CL23:DL23) -> 53 | DN23: =CD23 -> Ylia
A24: Zjavka777 | D24: 1 | E24: 19 | F24: 11 | G24: 1 | H24: 20 | I24: 7 | J24: 1 | K24: 19 | L24: 9 | M24: 1 | N24: 20 | O24: 8 | P24: 1 | Q24: 20 | R24: 8 | S24: 1 | T24: 6 | U24: 6 | V24: 1 | W24: 20 | X24: 10 | Y24: 1 | Z24: 20 | AA24: 11 | AB24: 1 | AC24: 20 | AD24: 7 | AE24: 1 | AF24: 19 | AG24: 7 | AH24: 1 | AI24: 18 | AJ24: 11 | AK24: 1 | AL24: 19 | AM24: 16 | AN24: 1 | AO24: 20 | AP24: 10 | AQ24: 1 | AR24: 8 | AS24: 4 | AT24: 1 | AU24: 20 | AV24: 8 | BC24: 1 | BD24: 20 | BE24: 10 | BF24: 1 | BG24: 20 | BH24: 9 | CD24: =A24 -> Zjavka777 | CF24: =D24+G24+J24+M24+P24+S24+V24+Y24+AB24+AE24+AH24+AK24+AN24+AQ24+AT24+AW24+AZ24+BC24+BF24+BI24+BL24+BO24+BR24+BU24+BX24+CA24 -> 17 | CG24: =E24+H24+K24+N24+Q24+T24+W24+Z24+AC24+AF24+AI24+AL24+AO24+AR24+AU24+AX24+BA24+BD24+BG24+BJ24+BM24+BP24+BS24+BV24+BY24+CB24 -> 308 | CH24: =F24+I24+L24+O24+R24+U24+X24+AA24+AD24+AG24+AJ24+AM24+AP24+AS24+AV24+AY24+BB24+BE24+BH24+BK24+BN24+BQ24+BT24+BW24+BZ24+CC24 -> 152 | CI24: =CH24/CF24 -> 8.9411765 | CJ24: =100/CG24*CH24 -> 49.350649 | CL24: =F24 -> 11 | CM24: =I24 -> 7 | CN24: =L24 -> 9 | CO24: =O24 -> 8 | CP24: =R24 -> 8 | CQ24: =U24 -> 6 | CR24: =X24 -> 10 | CS24: =AA24 -> 11 | CT24: =AD24 -> 7 | CU24: =AG24 -> 7 | CV24: =AJ24 -> 11 | CW24: =AM24 -> 16 | CX24: =AP24 -> 10 | CY24: =AS24 -> 4 | CZ24: =AV24 -> 8 | DA24: =AY24 -> 0 | DB24: =BB24 -> 0 | DC24: =BE24 -> 10 | DD24: =BH24 -> 9 | DE24: =BK24 -> 0 | DF24: =BN24 -> 0 | DG24: =BQ24 -> 0 | DH24: =BT24 -> 0 | DI24: =BW24 -> 0 | DJ24: =BZ24 -> 0 | DK24: =CC24 -> 0 | DM24: =SUM(CL24:DL24) -> 152 | DN24: =CD24 -> Zjavka777
A25: LaBomba77 | AT25: 1 | AU25: 20 | AV25: 6 | CD25: =A25 -> LaBomba77 | CF25: =D25+G25+J25+M25+P25+S25+V25+Y25+AB25+AE25+AH25+AK25+AN25+AQ25+AT25+AW25+AZ25+BC25+BF25+BI25+BL25+BO25+BR25+BU25+BX25+CA25 -> 1 | CG25: =E25+H25+K25+N25+Q25+T25+W25+Z25+AC25+AF25+AI25+AL25+AO25+AR25+AU25+AX25+BA25+BD25+BG25+BJ25+BM25+BP25+BS25+BV25+BY25+CB25 -> 20 | CH25: =F25+I25+L25+O25+R25+U25+X25+AA25+AD25+AG25+AJ25+AM25+AP25+AS25+AV25+AY25+BB25+BE25+BH25+BK25+BN25+BQ25+BT25+BW25+BZ25+CC25 -> 6 | CI25: =CH25/CF25 -> 6 | CJ25: =100/CG25*CH25 -> 30 | CL25: =F25 -> 0 | CM25: =I25 -> 0 | CN25: =L25 -> 0 | CO25: =O25 -> 0 | CP25: =R25 -> 0 | CQ25: =U25 -> 0 | CR25: =X25 -> 0 | CS25: =AA25 -> 0 | CT25: =AD25 -> 0 | CU25: =AG25 -> 0 | CV25: =AJ25 -> 0 | CW25: =AM25 -> 0 | CX25: =AP25 -> 0 | CY25: =AS25 -> 0 | CZ25: =AV25 -> 6 | DA25: =AY25 -> 0 | DB25: =BB25 -> 0 | DC25: =BE25 -> 0 | DD25: =BH25 -> 0 | DE25: =BK25 -> 0 | DF25: =BN25 -> 0 | DG25: =BQ25 -> 0 | DH25: =BT25 -> 0 | DI25: =BW25 -> 0 | DJ25: =BZ25 -> 0 | DK25: =CC25 -> 0 | DM25: =SUM(CL25:DL25) -> 6 | DN25: =CD25 -> LaBomba77
A26: Sisinhoo | AT26: 1 | AU26: 20 | AV26: 13 | CD26: =A26 -> Sisinhoo | CF26: =D26+G26+J26+M26+P26+S26+V26+Y26+AB26+AE26+AH26+AK26+AN26+AQ26+AT26+AW26+AZ26+BC26+BF26+BI26+BL26+BO26+BR26+BU26+BX26+CA26 -> 1 | CG26: =E26+H26+K26+N26+Q26+T26+W26+Z26+AC26+AF26+AI26+AL26+AO26+AR26+AU26+AX26+BA26+BD26+BG26+BJ26+BM26+BP26+BS26+BV26+BY26+CB26 -> 20 | CH26: =F26+I26+L26+O26+R26+U26+X26+AA26+AD26+AG26+AJ26+AM26+AP26+AS26+AV26+AY26+BB26+BE26+BH26+BK26+BN26+BQ26+BT26+BW26+BZ26+CC26 -> 13 | CI26: =CH26/CF26 -> 13 | CJ26: =100/CG26*CH26 -> 65 | CL26: =F26 -> 0 | CM26: =I26 -> 0 | CN26: =L26 -> 0 | CO26: =O26 -> 0 | CP26: =R26 -> 0 | CQ26: =U26 -> 0 | CR26: =X26 -> 0 | CS26: =AA26 -> 0 | CT26: =AD26 -> 0 | CU26: =AG26 -> 0 | CV26: =AJ26 -> 0 | CW26: =AM26 -> 0 | CX26: =AP26 -> 0 | CY26: =AS26 -> 0 | CZ26: =AV26 -> 13 | DA26: =AY26 -> 0 | DB26: =BB26 -> 0 | DC26: =BE26 -> 0 | DD26: =BH26 -> 0 | DE26: =BK26 -> 0 | DF26: =BN26 -> 0 | DG26: =BQ26 -> 0 | DH26: =BT26 -> 0 | DI26: =BW26 -> 0 | DJ26: =BZ26 -> 0 | DK26: =CC26 -> 0 | DM26: =SUM(CL26:DL26) -> 13 | DN26: =CD26 -> Sisinhoo
A27: Aš | AW27: 1 | AX27: 17 | AY27: 8 | BC27: 1 | BD27: 20 | BE27: 9 | CD27: =A27 -> Aš | CF27: =D27+G27+J27+M27+P27+S27+V27+Y27+AB27+AE27+AH27+AK27+AN27+AQ27+AT27+AW27+AZ27+BC27+BF27+BI27+BL27+BO27+BR27+BU27+BX27+CA27 -> 2 | CG27: =E27+H27+K27+N27+Q27+T27+W27+Z27+AC27+AF27+AI27+AL27+AO27+AR27+AU27+AX27+BA27+BD27+BG27+BJ27+BM27+BP27+BS27+BV27+BY27+CB27 -> 37 | CH27: =F27+I27+L27+O27+R27+U27+X27+AA27+AD27+AG27+AJ27+AM27+AP27+AS27+AV27+AY27+BB27+BE27+BH27+BK27+BN27+BQ27+BT27+BW27+BZ27+CC27 -> 17 | CI27: =CH27/CF27 -> 8.5 | CJ27: =100/CG27*CH27 -> 45.945946 | CL27: =F27 -> 0 | CM27: =I27 -> 0 | CN27: =L27 -> 0 | CO27: =O27 -> 0 | CP27: =R27 -> 0 | CQ27: =U27 -> 0 | CR27: =X27 -> 0 | CS27: =AA27 -> 0 | CT27: =AD27 -> 0 | CU27: =AG27 -> 0 | CV27: =AJ27 -> 0 | CW27: =AM27 -> 0 | CX27: =AP27 -> 0 | CY27: =AS27 -> 0 | CZ27: =AV27 -> 0 | DA27: =AY27 -> 8 | DB27: =BB27 -> 0 | DC27: =BE27 -> 9 | DD27: =BH27 -> 0 | DE27: =BK27 -> 0 | DF27: =BN27 -> 0 | DG27: =BQ27 -> 0 | DH27: =BT27 -> 0 | DI27: =BW27 -> 0 | DJ27: =BZ27 -> 0 | DK27: =CC27 -> 0 | DM27: =SUM(CL27:DL27) -> 17 | DN27: =CD27 -> Aš
CD28: =A28 -> 0 | CF28: =D28+G28+J28+M28+P28+S28+V28+Y28+AB28+AE28+AH28+AK28+AN28+AQ28+AT28+AW28+AZ28+BC28+BF28+BI28+BL28+BO28+BR28+BU28+BX28+CA28 -> 0 | CG28: =E28+H28+K28+N28+Q28+T28+W28+Z28+AC28+AF28+AI28+AL28+AO28+AR28+AU28+AX28+BA28+BD28+BG28+BJ28+BM28+BP28+BS28+BV28+BY28+CB28 -> 0 | CH28: =F28+I28+L28+O28+R28+U28+X28+AA28+AD28+AG28+AJ28+AM28+AP28+AS28+AV28+AY28+BB28+BE28+BH28+BK28+BN28+BQ28+BT28+BW28+BZ28+CC28 -> 0 | CI28: =CH28/CF28 -> #DIV/0! | CJ28: =100/CG28*CH28 -> #DIV/0! | CL28: =F28 -> 0 | CM28: =I28 -> 0 | CN28: =L28 -> 0 | CO28: =O28 -> 0 | CP28: =R28 -> 0 | CQ28: =U28 -> 0 | CR28: =X28 -> 0 | CS28: =AA28 -> 0 | CT28: =AD28 -> 0 | CU28: =AG28 -> 0 | CV28: =AJ28 -> 0 | CW28: =AM28 -> 0 | CX28: =AP28 -> 0 | CY28: =AS28 -> 0 | CZ28: =AV28 -> 0 | DA28: =AY28 -> 0 | DB28: =BB28 -> 0 | DC28: =BE28 -> 0 | DD28: =BH28 -> 0 | DE28: =BK28 -> 0 | DF28: =BN28 -> 0 | DG28: =BQ28 -> 0 | DH28: =BT28 -> 0 | DI28: =BW28 -> 0 | DJ28: =BZ28 -> 0 | DK28: =CC28 -> 0 | DM28: =SUM(CL28:DL28) -> 0 | DN28: =CD28 -> 0
CD29: =A29 -> 0 | CF29: =D29+G29+J29+M29+P29+S29+V29+Y29+AB29+AE29+AH29+AK29+AN29+AQ29+AT29+AW29+AZ29+BC29+BF29+BI29+BL29+BO29+BR29+BU29+BX29+CA29 -> 0 | CG29: =E29+H29+K29+N29+Q29+T29+W29+Z29+AC29+AF29+AI29+AL29+AO29+AR29+AU29+AX29+BA29+BD29+BG29+BJ29+BM29+BP29+BS29+BV29+BY29+CB29 -> 0 | CH29: =F29+I29+L29+O29+R29+U29+X29+AA29+AD29+AG29+AJ29+AM29+AP29+AS29+AV29+AY29+BB29+BE29+BH29+BK29+BN29+BQ29+BT29+BW29+BZ29+CC29 -> 0 | CI29: =CH29/CF29 -> #DIV/0! | CJ29: =100/CG29*CH29 -> #DIV/0! | CL29: =F29 -> 0 | CM29: =I29 -> 0 | CN29: =L29 -> 0 | CO29: =O29 -> 0 | CP29: =R29 -> 0 | CQ29: =U29 -> 0 | CR29: =X29 -> 0 | CS29: =AA29 -> 0 | CT29: =AD29 -> 0 | CU29: =AG29 -> 0 | CV29: =AJ29 -> 0 | CW29: =AM29 -> 0 | CX29: =AP29 -> 0 | CY29: =AS29 -> 0 | CZ29: =AV29 -> 0 | DA29: =AY29 -> 0 | DB29: =BB29 -> 0 | DC29: =BE29 -> 0 | DD29: =BH29 -> 0 | DE29: =BK29 -> 0 | DF29: =BN29 -> 0 | DG29: =BQ29 -> 0 | DH29: =BT29 -> 0 | DI29: =BW29 -> 0 | DJ29: =BZ29 -> 0 | DK29: =CC29 -> 0 | DM29: =SUM(CL29:DL29) -> 0 | DN29: =CD29 -> 0
CD30: =A30 -> 0 | CF30: =D30+G30+J30+M30+P30+S30+V30+Y30+AB30+AE30+AH30+AK30+AN30+AQ30+AT30+AW30+AZ30+BC30+BF30+BI30+BL30+BO30+BR30+BU30+BX30+CA30 -> 0 | CG30: =E30+H30+K30+N30+Q30+T30+W30+Z30+AC30+AF30+AI30+AL30+AO30+AR30+AU30+AX30+BA30+BD30+BG30+BJ30+BM30+BP30+BS30+BV30+BY30+CB30 -> 0 | CH30: =F30+I30+L30+O30+R30+U30+X30+AA30+AD30+AG30+AJ30+AM30+AP30+AS30+AV30+AY30+BB30+BE30+BH30+BK30+BN30+BQ30+BT30+BW30+BZ30+CC30 -> 0 | CI30: =CH30/CF30 -> #DIV/0! | CJ30: =100/CG30*CH30 -> #DIV/0! | CL30: =F30 -> 0 | CM30: =I30 -> 0 | CN30: =L30 -> 0 | CO30: =O30 -> 0 | CP30: =R30 -> 0 | CQ30: =U30 -> 0 | CR30: =X30 -> 0 | CS30: =AA30 -> 0 | CT30: =AD30 -> 0 | CU30: =AG30 -> 0 | CV30: =AJ30 -> 0 | CW30: =AM30 -> 0 | CX30: =AP30 -> 0 | CY30: =AS30 -> 0 | CZ30: =AV30 -> 0 | DA30: =AY30 -> 0 | DB30: =BB30 -> 0 | DC30: =BE30 -> 0 | DD30: =BH30 -> 0 | DE30: =BK30 -> 0 | DF30: =BN30 -> 0 | DG30: =BQ30 -> 0 | DH30: =BT30 -> 0 | DI30: =BW30 -> 0 | DJ30: =BZ30 -> 0 | DK30: =CC30 -> 0 | DM30: =SUM(CL30:DL30) -> 0 | DN30: =CD30 -> 0
CD31: =A31 -> 0 | CF31: =D31+G31+J31+M31+P31+S31+V31+Y31+AB31+AE31+AH31+AK31+AN31+AQ31+AT31+AW31+AZ31+BC31+BF31+BI31+BL31+BO31+BR31+BU31+BX31+CA31 -> 0 | CG31: =E31+H31+K31+N31+Q31+T31+W31+Z31+AC31+AF31+AI31+AL31+AO31+AR31+AU31+AX31+BA31+BD31+BG31+BJ31+BM31+BP31+BS31+BV31+BY31+CB31 -> 0 | CH31: =F31+I31+L31+O31+R31+U31+X31+AA31+AD31+AG31+AJ31+AM31+AP31+AS31+AV31+AY31+BB31+BE31+BH31+BK31+BN31+BQ31+BT31+BW31+BZ31+CC31 -> 0 | CI31: =CH31/CF31 -> #DIV/0! | CJ31: =100/CG31*CH31 -> #DIV/0! | CL31: =F31 -> 0 | CM31: =I31 -> 0 | CN31: =L31 -> 0 | CO31: =O31 -> 0 | CP31: =R31 -> 0 | CQ31: =U31 -> 0 | CR31: =X31 -> 0 | CS31: =AA31 -> 0 | CT31: =AD31 -> 0 | CU31: =AG31 -> 0 | CV31: =AJ31 -> 0 | CW31: =AM31 -> 0 | CX31: =AP31 -> 0 | CY31: =AS31 -> 0 | CZ31: =AV31 -> 0 | DA31: =AY31 -> 0 | DB31: =BB31 -> 0 | DC31: =BE31 -> 0 | DD31: =BH31 -> 0 | DE31: =BK31 -> 0 | DF31: =BN31 -> 0 | DG31: =BQ31 -> 0 | DH31: =BT31 -> 0 | DI31: =BW31 -> 0 | DJ31: =BZ31 -> 0 | DK31: =CC31 -> 0 | DM31: =SUM(CL31:DL31) -> 0 | DN31: =CD31 -> 0
CD32: =A32 -> 0 | CF32: =D32+G32+J32+M32+P32+S32+V32+Y32+AB32+AE32+AH32+AK32+AN32+AQ32+AT32+AW32+AZ32+BC32+BF32+BI32+BL32+BO32+BR32+BU32+BX32+CA32 -> 0 | CG32: =E32+H32+K32+N32+Q32+T32+W32+Z32+AC32+AF32+AI32+AL32+AO32+AR32+AU32+AX32+BA32+BD32+BG32+BJ32+BM32+BP32+BS32+BV32+BY32+CB32 -> 0 | CH32: =F32+I32+L32+O32+R32+U32+X32+AA32+AD32+AG32+AJ32+AM32+AP32+AS32+AV32+AY32+BB32+BE32+BH32+BK32+BN32+BQ32+BT32+BW32+BZ32+CC32 -> 0 | CI32: =CH32/CF32 -> #DIV/0! | CJ32: =100/CG32*CH32 -> #DIV/0! | CL32: =F32 -> 0 | CM32: =I32 -> 0 | CN32: =L32 -> 0 | CO32: =O32 -> 0 | CP32: =R32 -> 0 | CQ32: =U32 -> 0 | CR32: =X32 -> 0 | CS32: =AA32 -> 0 | CT32: =AD32 -> 0 | CU32: =AG32 -> 0 | CV32: =AJ32 -> 0 | CW32: =AM32 -> 0 | CX32: =AP32 -> 0 | CY32: =AS32 -> 0 | CZ32: =AV32 -> 0 | DA32: =AY32 -> 0 | DB32: =BB32 -> 0 | DC32: =BE32 -> 0 | DD32: =BH32 -> 0 | DE32: =BK32 -> 0 | DF32: =BN32 -> 0 | DG32: =BQ32 -> 0 | DH32: =BT32 -> 0 | DI32: =BW32 -> 0 | DJ32: =BZ32 -> 0 | DK32: =CC32 -> 0 | DM32: =SUM(CL32:DL32) -> 0 | DN32: =CD32 -> 0
CD33: =A33 -> 0 | CF33: =D33+G33+J33+M33+P33+S33+V33+Y33+AB33+AE33+AH33+AK33+AN33+AQ33+AT33+AW33+AZ33+BC33+BF33+BI33+BL33+BO33+BR33+BU33+BX33+CA33 -> 0 | CG33: =E33+H33+K33+N33+Q33+T33+W33+Z33+AC33+AF33+AI33+AL33+AO33+AR33+AU33+AX33+BA33+BD33+BG33+BJ33+BM33+BP33+BS33+BV33+BY33+CB33 -> 0 | CH33: =F33+I33+L33+O33+R33+U33+X33+AA33+AD33+AG33+AJ33+AM33+AP33+AS33+AV33+AY33+BB33+BE33+BH33+BK33+BN33+BQ33+BT33+BW33+BZ33+CC33 -> 0 | CI33: =CH33/CF33 -> #DIV/0! | CJ33: =100/CG33*CH33 -> #DIV/0! | CL33: =F33 -> 0 | CM33: =I33 -> 0 | CN33: =L33 -> 0 | CO33: =O33 -> 0 | CP33: =R33 -> 0 | CQ33: =U33 -> 0 | CR33: =X33 -> 0 | CS33: =AA33 -> 0 | CT33: =AD33 -> 0 | CU33: =AG33 -> 0 | CV33: =AJ33 -> 0 | CW33: =AM33 -> 0 | CX33: =AP33 -> 0 | CY33: =AS33 -> 0 | CZ33: =AV33 -> 0 | DA33: =AY33 -> 0 | DB33: =BB33 -> 0 | DC33: =BE33 -> 0 | DD33: =BH33 -> 0 | DE33: =BK33 -> 0 | DF33: =BN33 -> 0 | DG33: =BQ33 -> 0 | DH33: =BT33 -> 0 | DI33: =BW33 -> 0 | DJ33: =BZ33 -> 0 | DK33: =CC33 -> 0 | DM33: =SUM(CL33:DL33) -> 0 | DN33: =CD33 -> 0
CD34: =A34 -> 0 | CF34: =D34+G34+J34+M34+P34+S34+V34+Y34+AB34+AE34+AH34+AK34+AN34+AQ34+AT34+AW34+AZ34+BC34+BF34+BI34+BL34+BO34+BR34+BU34+BX34+CA34 -> 0 | CG34: =E34+H34+K34+N34+Q34+T34+W34+Z34+AC34+AF34+AI34+AL34+AO34+AR34+AU34+AX34+BA34+BD34+BG34+BJ34+BM34+BP34+BS34+BV34+BY34+CB34 -> 0 | CH34: =F34+I34+L34+O34+R34+U34+X34+AA34+AD34+AG34+AJ34+AM34+AP34+AS34+AV34+AY34+BB34+BE34+BH34+BK34+BN34+BQ34+BT34+BW34+BZ34+CC34 -> 0 | CI34: =CH34/CF34 -> #DIV/0! | CJ34: =100/CG34*CH34 -> #DIV/0! | CL34: =F34 -> 0 | CM34: =I34 -> 0 | CN34: =L34 -> 0 | CO34: =O34 -> 0 | CP34: =R34 -> 0 | CQ34: =U34 -> 0 | CR34: =X34 -> 0 | CS34: =AA34 -> 0 | CT34: =AD34 -> 0 | CU34: =AG34 -> 0 | CV34: =AJ34 -> 0 | CW34: =AM34 -> 0 | CX34: =AP34 -> 0 | CY34: =AS34 -> 0 | CZ34: =AV34 -> 0 | DA34: =AY34 -> 0 | DB34: =BB34 -> 0 | DC34: =BE34 -> 0 | DD34: =BH34 -> 0 | DE34: =BK34 -> 0 | DF34: =BN34 -> 0 | DG34: =BQ34 -> 0 | DH34: =BT34 -> 0 | DI34: =BW34 -> 0 | DJ34: =BZ34 -> 0 | DK34: =CC34 -> 0 | DM34: =SUM(CL34:DL34) -> 0 | DN34: =CD34 -> 0
CD35: =A35 -> 0 | CF35: =D35+G35+J35+M35+P35+S35+V35+Y35+AB35+AE35+AH35+AK35+AN35+AQ35+AT35+AW35+AZ35+BC35+BF35+BI35+BL35+BO35+BR35+BU35+BX35+CA35 -> 0 | CG35: =E35+H35+K35+N35+Q35+T35+W35+Z35+AC35+AF35+AI35+AL35+AO35+AR35+AU35+AX35+BA35+BD35+BG35+BJ35+BM35+BP35+BS35+BV35+BY35+CB35 -> 0 | CH35: =F35+I35+L35+O35+R35+U35+X35+AA35+AD35+AG35+AJ35+AM35+AP35+AS35+AV35+AY35+BB35+BE35+BH35+BK35+BN35+BQ35+BT35+BW35+BZ35+CC35 -> 0 | CI35: =CH35/CF35 -> #DIV/0! | CJ35: =100/CG35*CH35 -> #DIV/0! | CL35: =F35 -> 0 | CM35: =I35 -> 0 | CN35: =L35 -> 0 | CO35: =O35 -> 0 | CP35: =R35 -> 0 | CQ35: =U35 -> 0 | CR35: =X35 -> 0 | CS35: =AA35 -> 0 | CT35: =AD35 -> 0 | CU35: =AG35 -> 0 | CV35: =AJ35 -> 0 | CW35: =AM35 -> 0 | CX35: =AP35 -> 0 | CY35: =AS35 -> 0 | CZ35: =AV35 -> 0 | DA35: =AY35 -> 0 | DB35: =BB35 -> 0 | DC35: =BE35 -> 0 | DD35: =BH35 -> 0 | DE35: =BK35 -> 0 | DF35: =BN35 -> 0 | DG35: =BQ35 -> 0 | DH35: =BT35 -> 0 | DI35: =BW35 -> 0 | DJ35: =BZ35 -> 0 | DK35: =CC35 -> 0 | DM35: =SUM(CL35:DL35) -> 0 | DN35: =CD35 -> 0
CD36: =A36 -> 0 | CF36: =D36+G36+J36+M36+P36+S36+V36+Y36+AB36+AE36+AH36+AK36+AN36+AQ36+AT36+AW36+AZ36+BC36+BF36+BI36+BL36+BO36+BR36+BU36+BX36+CA36 -> 0 | CG36: =E36+H36+K36+N36+Q36+T36+W36+Z36+AC36+AF36+AI36+AL36+AO36+AR36+AU36+AX36+BA36+BD36+BG36+BJ36+BM36+BP36+BS36+BV36+BY36+CB36 -> 0 | CH36: =F36+I36+L36+O36+R36+U36+X36+AA36+AD36+AG36+AJ36+AM36+AP36+AS36+AV36+AY36+BB36+BE36+BH36+BK36+BN36+BQ36+BT36+BW36+BZ36+CC36 -> 0 | CI36: =CH36/CF36 -> #DIV/0! | CJ36: =100/CG36*CH36 -> #DIV/0! | CL36: =F36 -> 0 | CM36: =I36 -> 0 | CN36: =L36 -> 0 | CO36: =O36 -> 0 | CP36: =R36 -> 0 | CQ36: =U36 -> 0 | CR36: =X36 -> 0 | CS36: =AA36 -> 0 | CT36: =AD36 -> 0 | CU36: =AG36 -> 0 | CV36: =AJ36 -> 0 | CW36: =AM36 -> 0 | CX36: =AP36 -> 0 | CY36: =AS36 -> 0 | CZ36: =AV36 -> 0 | DA36: =AY36 -> 0 | DB36: =BB36 -> 0 | DC36: =BE36 -> 0 | DD36: =BH36 -> 0 | DE36: =BK36 -> 0 | DF36: =BN36 -> 0 | DG36: =BQ36 -> 0 | DH36: =BT36 -> 0 | DI36: =BW36 -> 0 | DJ36: =BZ36 -> 0 | DK36: =CC36 -> 0 | DM36: =SUM(CL36:DL36) -> 0 | DN36: =CD36 -> 0
CD37: =A37 -> 0 | CF37: =D37+G37+J37+M37+P37+S37+V37+Y37+AB37+AE37+AH37+AK37+AN37+AQ37+AT37+AW37+AZ37+BC37+BF37+BI37+BL37+BO37+BR37+BU37+BX37+CA37 -> 0 | CG37: =E37+H37+K37+N37+Q37+T37+W37+Z37+AC37+AF37+AI37+AL37+AO37+AR37+AU37+AX37+BA37+BD37+BG37+BJ37+BM37+BP37+BS37+BV37+BY37+CB37 -> 0 | CH37: =F37+I37+L37+O37+R37+U37+X37+AA37+AD37+AG37+AJ37+AM37+AP37+AS37+AV37+AY37+BB37+BE37+BH37+BK37+BN37+BQ37+BT37+BW37+BZ37+CC37 -> 0 | CI37: =CH37/CF37 -> #DIV/0! | CJ37: =100/CG37*CH37 -> #DIV/0! | CL37: =F37 -> 0 | CM37: =I37 -> 0 | CN37: =L37 -> 0 | CO37: =O37 -> 0 | CP37: =R37 -> 0 | CQ37: =U37 -> 0 | CR37: =X37 -> 0 | CS37: =AA37 -> 0 | CT37: =AD37 -> 0 | CU37: =AG37 -> 0 | CV37: =AJ37 -> 0 | CW37: =AM37 -> 0 | CX37: =AP37 -> 0 | CY37: =AS37 -> 0 | CZ37: =AV37 -> 0 | DA37: =AY37 -> 0 | DB37: =BB37 -> 0 | DC37: =BE37 -> 0 | DD37: =BH37 -> 0 | DE37: =BK37 -> 0 | DF37: =BN37 -> 0 | DG37: =BQ37 -> 0 | DH37: =BT37 -> 0 | DI37: =BW37 -> 0 | DJ37: =BZ37 -> 0 | DK37: =CC37 -> 0 | DM37: =SUM(CL37:DL37) -> 0 | DN37: =CD37 -> 0
CD38: =A38 -> 0 | CF38: =D38+G38+J38+M38+P38+S38+V38+Y38+AB38+AE38+AH38+AK38+AN38+AQ38+AT38+AW38+AZ38+BC38+BF38+BI38+BL38+BO38+BR38+BU38+BX38+CA38 -> 0 | CG38: =E38+H38+K38+N38+Q38+T38+W38+Z38+AC38+AF38+AI38+AL38+AO38+AR38+AU38+AX38+BA38+BD38+BG38+BJ38+BM38+BP38+BS38+BV38+BY38+CB38 -> 0 | CH38: =F38+I38+L38+O38+R38+U38+X38+AA38+AD38+AG38+AJ38+AM38+AP38+AS38+AV38+AY38+BB38+BE38+BH38+BK38+BN38+BQ38+BT38+BW38+BZ38+CC38 -> 0 | CI38: =CH38/CF38 -> #DIV/0! | CJ38: =100/CG38*CH38 -> #DIV/0! | CL38: =F38 -> 0 | CM38: =I38 -> 0 | CN38: =L38 -> 0 | CO38: =O38 -> 0 | CP38: =R38 -> 0 | CQ38: =U38 -> 0 | CR38: =X38 -> 0 | CS38: =AA38 -> 0 | CT38: =AD38 -> 0 | CU38: =AG38 -> 0 | CV38: =AJ38 -> 0 | CW38: =AM38 -> 0 | CX38: =AP38 -> 0 | CY38: =AS38 -> 0 | CZ38: =AV38 -> 0 | DA38: =AY38 -> 0 | DB38: =BB38 -> 0 | DC38: =BE38 -> 0 | DD38: =BH38 -> 0 | DE38: =BK38 -> 0 | DF38: =BN38 -> 0 | DG38: =BQ38 -> 0 | DH38: =BT38 -> 0 | DI38: =BW38 -> 0 | DJ38: =BZ38 -> 0 | DK38: =CC38 -> 0 | DM38: =SUM(CL38:DL38) -> 0 | DN38: =CD38 -> 0
CD39: =A39 -> 0 | CF39: =D39+G39+J39+M39+P39+S39+V39+Y39+AB39+AE39+AH39+AK39+AN39+AQ39+AT39+AW39+AZ39+BC39+BF39+BI39+BL39+BO39+BR39+BU39+BX39+CA39 -> 0 | CG39: =E39+H39+K39+N39+Q39+T39+W39+Z39+AC39+AF39+AI39+AL39+AO39+AR39+AU39+AX39+BA39+BD39+BG39+BJ39+BM39+BP39+BS39+BV39+BY39+CB39 -> 0 | CH39: =F39+I39+L39+O39+R39+U39+X39+AA39+AD39+AG39+AJ39+AM39+AP39+AS39+AV39+AY39+BB39+BE39+BH39+BK39+BN39+BQ39+BT39+BW39+BZ39+CC39 -> 0 | CI39: =CH39/CF39 -> #DIV/0! | CJ39: =100/CG39*CH39 -> #DIV/0! | CL39: =F39 -> 0 | CM39: =I39 -> 0 | CN39: =L39 -> 0 | CO39: =O39 -> 0 | CP39: =R39 -> 0 | CQ39: =U39 -> 0 | CR39: =X39 -> 0 | CS39: =AA39 -> 0 | CT39: =AD39 -> 0 | CU39: =AG39 -> 0 | CV39: =AJ39 -> 0 | CW39: =AM39 -> 0 | CX39: =AP39 -> 0 | CY39: =AS39 -> 0 | CZ39: =AV39 -> 0 | DA39: =AY39 -> 0 | DB39: =BB39 -> 0 | DC39: =BE39 -> 0 | DD39: =BH39 -> 0 | DE39: =BK39 -> 0 | DF39: =BN39 -> 0 | DG39: =BQ39 -> 0 | DH39: =BT39 -> 0 | DI39: =BW39 -> 0 | DJ39: =BZ39 -> 0 | DK39: =CC39 -> 0 | DM39: =SUM(CL39:DL39) -> 0 | DN39: =CD39 -> 0
... CD42: =A42 -> 0 | CF42: =D42+G42+J42+M42+P42+S42+V42+Y42+AB42+AE42+AH42+AK42+AN42+AQ42+AT42+AW42+AZ42+BC42+BF42+BI42+BL42+BO42+BR42+BU42+BX42+CA42 -> 0 | CG42: =E42+H42+K42+N42+Q42+T42+W42+Z42+AC42+AF42+AI42+AL42+AO42+AR42+AU42+AX42+BA42+BD42+BG42+BJ42+BM42+BP42+BS42+BV42+BY42+CB42 -> 0 | CH42: =F42+I42+L42+O42+R42+U42+X42+AA42+AD42+AG42+AJ42+AM42+AP42+AS42+AV42+AY42+BB42+BE42+BH42+BK42+BN42+BQ42+BT42+BW42+BZ42+CC42 -> 0 | CI42: =CH42/CF42 -> #DIV/0! | CJ42: =100/CG42*CH42 -> #DIV/0! | CL42: =F42 -> 0 | CM42: =I42 -> 0 | CN42: =L42 -> 0 | CO42: =O42 -> 0 | CP42: =R42 -> 0 | CQ42: =U42 -> 0 | CR42: =X42 -> 0 | CS42: =AA42 -> 0 | CT42: =AD42 -> 0 | CU42: =AG42 -> 0 | CV42: =AJ42 -> 0 | CW42: =AM42 -> 0 | CX42: =AP42 -> 0 | CY42: =AS42 -> 0 | CZ42: =AV42 -> 0 | DA42: =AY42 -> 0 | DB42: =BB42 -> 0 | DC42: =BE42 -> 0 | DD42: =BH42 -> 0 | DE42: =BK42 -> 0 | DF42: =BN42 -> 0 | DG42: =BQ42 -> 0 | DH42: =BT42 -> 0 | DI42: =BW42 -> 0 | DJ42: =BZ42 -> 0 | DK42: =CC42 -> 0 | DM42: =SUM(CL42:DL42) -> 0 | DN42: =CD42 -> 0
D43: =SUM(D3:D42) -> 17 | E43: =SUM(E3:E42) -> 315 | F43: =SUM(F3:F42) -> 153 | G43: =SUM(G3:G42) -> 11 | H43: =SUM(H3:H42) -> 219 | I43: =SUM(I3:I42) -> 79 | J43: =SUM(J3:J42) -> 12 | K43: =SUM(K3:K42) -> 228 | ... CC43: =SUM(CC3:CC42) -> 91
B45: % úspešnosť na kolo | E45: =100/E43*F43 -> 48.571429 | F45: % | H45: =100/H43*I43 -> 36.073059 | I45: % | K45: =100/K43*L43 -> 35.964912 | L45: % | N45: =100/N43*O43 -> 52.742616 | O45: % | Q45: =100/Q43*R43 -> 43.333333 | R45: % | T45: =100/T43*U43 -> 48.611111 | U45: % | W45: =100/W43*X43 -> 51.818182 | X45: % | Z45: =100/Z43*AA43 -> 53.333333 | AA45: % | AC45: =100/AC43*AD43 -> 42.692308 | AD45: % | AF45: =100/AF43*AG43 -> 41.148325 | AG45: % | AI45: =100/AI43*AJ43 -> 45.37037 | AJ45: % | AL45: =100/AL43*AM43 -> 58.77193 | AM45: % | AO45: =100/AO43*AP43 -> 48.846154 | AP45: % | AR45: =100/AR43*AS43 -> 56.730769 | AS45: % | AU45: =100/AU43*AV43 -> 48.895899 | AV45: % | AX45: =100/AX43*AY43 -> 59.663866 | AY45: % | BA45: =100/BA43*BB43 -> 34.615385 | BB45: % | BD45: =100/BD43*BE43 -> 51 | BE45: % | BG45: =100/BG43*BH43 -> 42.692308 | BH45: % | BJ45: =100/BJ43*BK43 -> 37.916667 | BK45: % | BM45: =100/BM43*BN43 -> 42.916667 | BN45: % | BP45: =100/BP43*BQ43 -> 49.885057 | BQ45: % | BS45: =100/BS43*BT43 -> 38.636364 | BT45: % | BV45: =100/BV43*BW43 -> 53 | BW45: % | BY45: =100/BY43*BZ43 -> 45 | BZ45: % | CB45: =100/CB43*CC43 -> 48.663102 | CC45: %
B46: Ø bodový priemer na kolo | E46: =F43/D43 -> 9 | F46: Ø | H46: =I43/G43 -> 7.1818182 | I46: Ø | K46: =L43/J43 -> 6.8333333 | L46: Ø | N46: =O43/M43 -> 10.416667 | O46: Ø | Q46: =R43/P43 -> 8.6666667 | R46: Ø | T46: =U43/S43 -> 2.9166667 | U46: Ø | W46: =X43/V43 -> 10.363636 | X46: Ø | Z46: =AA43/Y43 -> 10.666667 | AA46: Ø | AC46: =AD43/AB43 -> 7.9285714 | AD46: Ø | AF46: =AG43/AE43 -> 7.8181818 | AG46: Ø | AI46: =AJ43/AH43 -> 8.1666667 | AJ46: Ø | AL46: =AM43/AK43 -> 11.166667 | AM46: Ø | AO46: =AP43/AN43 -> 9.7692308 | AP46: Ø | AR46: =AS43/AQ43 -> 4.5384615 | AS46: Ø | AU46: =AV43/AT43 -> 9.6875 | AV46: Ø | AX46: =AY43/AW43 -> 10.142857 | AY46: Ø | BA46: =BB43/AZ43 -> 6.9230769 | BB46: Ø | BD46: =BE43/BC43 -> 10.2 | BE46: Ø | BG46: =BH43/BF43 -> 8.5384615 | BH46: Ø | BJ46: =BK43/BI43 -> 7.5833333 | BK46: Ø | BM46: =BN43/BL43 -> 8.5833333 | BN46: Ø | BP46: =BQ43/BO43 -> 9.4347826 | BQ46: Ø | BS46: =BT43/BR43 -> 7.7272727 | BT46: Ø | BV46: =BW43/BU43 -> 10.6 | BW46: Ø | BY46: =BZ43/BX43 -> 9 | BZ46: Ø | CB46: =CC43/CA43 -> 8.2727273 | CC46: Ø | CD46: % úspešnosť celej tipovačky
B47: % úspešnosť tipovačky | CD47: =100/CD49*CD51 -> 46.688365
CD48: počet natipovaných zápasov
CD49: =E43+H43+K43+N43+Q43+T43+W43+Z43+AC43+AF43+AI43+AL43+AO43+AR43+AU43+AX43+BA43+BD43+BG43+BJ43+BM43+BP43+BS43+BV43+BY43+CB43 -> 6145
CD50: počet získaných bodov
CD51: =F43+I43+L43+O43+R43+U43+X43+AA43+AD43+AG43+AJ43+AM43+AP43+AS43+AV43+AY43+BB43+BE43+BH43+BK43+BN43+BQ43+BT43+BW43+BZ43+CC43 -> 2869

Sheet TABUĽKA
B3: p.č. | C3: nick | E3: kolo | G3: body | I3: Ø | J3: %
B4: 1. | C4: =VYHODNOTENIE!CD12 -> Kladivo | E4: =VYHODNOTENIE!CF12 -> 27 | G4: =VYHODNOTENIE!CH12 -> 253 | I4: =VYHODNOTENIE!CI12 -> 9.3703704 | J4: =VYHODNOTENIE!CJ12 -> 51.214575
B5: 2. | C5: =VYHODNOTENIE!CD22 -> Trubka | E5: =VYHODNOTENIE!CF22 -> 27 | G5: =VYHODNOTENIE!CH22 -> 249 | I5: =VYHODNOTENIE!CI22 -> 9.2222222 | J5: =VYHODNOTENIE!CJ22 -> 49.8
B6: 3. | C6: =VYHODNOTENIE!CD5 -> Dušan | E6: =VYHODNOTENIE!CF5 -> 26 | G6: =VYHODNOTENIE!CH5 -> 244 | I6: =VYHODNOTENIE!CI5 -> 9.3846154 | J6: =VYHODNOTENIE!CJ5 -> 50.939457
B7: 4. | C7: =VYHODNOTENIE!CD9 -> Johny2001 | E7: =VYHODNOTENIE!CF9 -> 27 | G7: =VYHODNOTENIE!CH9 -> 230 | I7: =VYHODNOTENIE!CI9 -> 8.5185185 | J7: =VYHODNOTENIE!CJ9 -> 46.092184
B8: 5. | C8: =VYHODNOTENIE!CD17 -> Pavol | E8: =VYHODNOTENIE!CF17 -> 26 | G8: =VYHODNOTENIE!CH17 -> 230 | I8: =VYHODNOTENIE!CI17 -> 8.8461538 | J8: =VYHODNOTENIE!CJ17 -> 48.625793
B9: 6. | C9: =VYHODNOTENIE!CD13 -> Legionar1987 | E9: =VYHODNOTENIE!CF13 -> 26 | G9: =VYHODNOTENIE!CH13 -> 229 | I9: =VYHODNOTENIE!CI13 -> 8.8076923 | J9: =VYHODNOTENIE!CJ13 -> 48.619958
B10: 7. | C10: =VYHODNOTENIE!CD14 -> Lorak | E10: =VYHODNOTENIE!CF14 -> 27 | G10: =VYHODNOTENIE!CH14 -> 222 | I10: =VYHODNOTENIE!CI14 -> 8.2222222 | J10: =VYHODNOTENIE!CJ14 -> 44.488978
B11: 8. | C11: =VYHODNOTENIE!CD8 -> Jarko77 | E11: =VYHODNOTENIE!CF8 -> 26 | G11: =VYHODNOTENIE!CH8 -> 210 | I11: =VYHODNOTENIE!CI8 -> 8.0769231 | J11: =VYHODNOTENIE!CJ8 -> 43.659044
B12: 9. | C12: =VYHODNOTENIE!CD4 -> Brandis | E12: =VYHODNOTENIE!CF4 -> 23 | G12: =VYHODNOTENIE!CH4 -> 182 | I12: =VYHODNOTENIE!CI4 -> 7.9130435 | J12: =VYHODNOTENIE!CJ4 -> 43.855422
B13: 10. | C13: =VYHODNOTENIE!CD15 -> Mino | E13: =VYHODNOTENIE!CF15 -> 24 | G13: =VYHODNOTENIE!CH15 -> 180 | I13: =VYHODNOTENIE!CI15 -> 7.5 | J13: =VYHODNOTENIE!CJ15 -> 40.909091
B14: 11. | C14: =VYHODNOTENIE!CD24 -> Zjavka777 | E14: =VYHODNOTENIE!CF24 -> 17 | G14: =VYHODNOTENIE!CH24 -> 152 | I14: =VYHODNOTENIE!CI24 -> 8.9411765 | J14: =VYHODNOTENIE!CJ24 -> 49.350649
B15: 12. | C15: =VYHODNOTENIE!CD18 -> Peto91 | E15: =VYHODNOTENIE!CF18 -> 15 | G15: =VYHODNOTENIE!CH18 -> 121 | I15: =VYHODNOTENIE!CI18 -> 8.0666667 | J15: =VYHODNOTENIE!CJ18 -> 45.488722
B16: 13. | C16: =VYHODNOTENIE!CD11 -> Kaper | E16: =VYHODNOTENIE!CF11 -> 10 | G16: =VYHODNOTENIE!CH11 -> 106 | I16: =VYHODNOTENIE!CI11 -> 10.6 | J16: =VYHODNOTENIE!CJ11 -> 54.358974
B17: 14. | C17: =VYHODNOTENIE!CD16 -> Miro23 | E17: =VYHODNOTENIE!CF16 -> 14 | G17: =VYHODNOTENIE!CH16 -> 90 | I17: =VYHODNOTENIE!CI16 -> 6.4285714 | J17: =VYHODNOTENIE!CJ16 -> 34.615385
B18: 15. | C18: =VYHODNOTENIE!CD23 -> Ylia | E18: =VYHODNOTENIE!CF23 -> 5 | G18: =VYHODNOTENIE!CH23 -> 53 | I18: =VYHODNOTENIE!CI23 -> 10.6 | J18: =VYHODNOTENIE!CJ23 -> 53.535354
B19: 16. | C19: =VYHODNOTENIE!CD7 -> HolaHou | E19: =VYHODNOTENIE!CF7 -> 3 | G19: =VYHODNOTENIE!CH7 -> 28 | I19: =VYHODNOTENIE!CI7 -> 9.3333333 | J19: =VYHODNOTENIE!CJ7 -> 48.275862
B20: 17. | C20: =VYHODNOTENIE!CD27 -> Aš | E20: =VYHODNOTENIE!CF27 -> 2 | G20: =VYHODNOTENIE!CH27 -> 17 | I20: =VYHODNOTENIE!CI27 -> 8.5 | J20: =VYHODNOTENIE!CJ27 -> 45.945946
B21: 18. | C21: =VYHODNOTENIE!CD20 -> Steinar | E21: =VYHODNOTENIE!CF20 -> 2 | G21: =VYHODNOTENIE!CH20 -> 14 | I21: =VYHODNOTENIE!CI20 -> 7 | J21: =VYHODNOTENIE!CJ20 -> 35.897436
B22: 19. | C22: =VYHODNOTENIE!CD6 -> Duško | E22: =VYHODNOTENIE!CF6 -> 1 | G22: =VYHODNOTENIE!CH6 -> 13 | I22: =VYHODNOTENIE!CI6 -> 13 | J22: =VYHODNOTENIE!CJ6 -> 68.421053
B23: 20. | C23: =VYHODNOTENIE!CD26 -> Sisinhoo | E23: =VYHODNOTENIE!CF26 -> 1 | G23: =VYHODNOTENIE!CH26 -> 13 | I23: =VYHODNOTENIE!CI26 -> 13 | J23: =VYHODNOTENIE!CJ26 -> 65
B24: 21. | C24: =VYHODNOTENIE!CD21 -> Tobikoo | E24: =VYHODNOTENIE!CF21 -> 1 | G24: =VYHODNOTENIE!CH21 -> 10 | I24: =VYHODNOTENIE!CI21 -> 10 | J24: =VYHODNOTENIE!CJ21 -> 52.631579
B25: 22. | C25: =VYHODNOTENIE!CD10 -> Kaciato | E25: =VYHODNOTENIE!CF10 -> 1 | G25: =VYHODNOTENIE!CH10 -> 8 | I25: =VYHODNOTENIE!CI10 -> 8 | J25: =VYHODNOTENIE!CJ10 -> 40
B26: 23. | C26: =VYHODNOTENIE!CD3 -> Bekino | E26: =VYHODNOTENIE!CF3 -> 1 | G26: =VYHODNOTENIE!CH3 -> 6 | I26: =VYHODNOTENIE!CI3 -> 6 | J26: =VYHODNOTENIE!CJ3 -> 31.578947
B27: 24. | C27: =VYHODNOTENIE!CD25 -> LaBomba77 | E27: =VYHODNOTENIE!CF25 -> 1 | G27: =VYHODNOTENIE!CH25 -> 6 | I27: =VYHODNOTENIE!CI25 -> 6 | J27: =VYHODNOTENIE!CJ25 -> 30
B28: 25. | C28: =VYHODNOTENIE!CD19 -> Sagvan | E28: =VYHODNOTENIE!CF19 -> 1 | G28: =VYHODNOTENIE!CH19 -> 3 | I28: =VYHODNOTENIE!CI19 -> 3 | J28: =VYHODNOTENIE!CJ19 -> 20
